BEGIN:VCALENDAR
VERSION:2.0
PRODID:-//YST Conservatory - ECPv6.15.17//NONSGML v1.0//EN
CALSCALE:GREGORIAN
METHOD:PUBLISH
X-WR-CALNAME:YST Conservatory
X-ORIGINAL-URL:https://www.ystmusic.nus.edu.sg
X-WR-CALDESC:Events for YST Conservatory
REFRESH-INTERVAL;VALUE=DURATION:PT1H
X-Robots-Tag:noindex
X-PUBLISHED-TTL:PT1H
BEGIN:VTIMEZONE
TZID:Asia/Singapore
BEGIN:STANDARD
TZOFFSETFROM:+0800
TZOFFSETTO:+0800
TZNAME:+08
DTSTART:20180101T000000
END:STANDARD
END:VTIMEZONE
BEGIN:VEVENT
DTSTART;TZID=Asia/Singapore:20191024T120000
DTEND;TZID=Asia/Singapore:20191024T120000
DTSTAMP:20260424T032555
CREATED:20191014T020550Z
LAST-MODIFIED:20191014T020550Z
UID:5651-1571918400-1571918400@www.ystmusic.nus.edu.sg
SUMMARY:Plenary Presentation: Karin Schaupp - Finding Stories Beyond The Dots
DESCRIPTION:KARIN SCHAUPP\, presenter \nABOUT THE EVENT\nKarin Schaupp has had an international career as a concert guitarist and she has also trained extensively as an actor and used her skills to create multiple cross-platform projects. Through this process she discovered the immense expressive potential of applying acting techniques to musical performance. In this lecture-recital Karin will share an overview of her projects and the artistic research intrinsic to her process. Karin will also discuss how she applies acting techniques in her teaching at tertiary level and why she feels these techniques have the potential to fill a notable gap in the training of instrumentalists. \nThis event is presented as part of Performers(‘) Present 2019: Telling Stories. \n\n\n\n\nAbout Karin Schaupp\n\n\n\n\nABOUT THE SYMPOSIUM\nNarratives – whether historical\, political\, or musical; whether fact or fiction – are inextricably bound to the ways we experience the world\, and the art that translates these experiences. \nIn the decade since we began hosting the triennial Performers(‘) Present symposium\, artistic research has been undergoing rapid and ground-shifting transformations\, with the performer’s voice becoming ever more present. As with our previous symposia\, Telling Stories seeks to address and evolve the kaleidoscopic issues facing 21st-century performers\, as they reflect on their practice in the context of significant shifts in politics\, communications and technology\, and performance practice.  \nCome join us and the artistic research community at the Yong Siew Toh Conservatory of Music from 23 – 26 October 2019\, as we reflect on the power of music narratives and celebrate their narrators in Performers(‘) Present 2019: Telling Stories. \n\n\n\n\nLearn More\n\n\n\n\nTICKETING INFORMATION\n• Free admission.• All event information is correct at time of print.• Out of respect for other concertgoers\, no children under 6 years of age will be allowed admission.
URL:https://www.ystmusic.nus.edu.sg/event/plenary-presentation-karin-schaupp-finding-stories-beyond-the-dots/
LOCATION:Conservatory Orchestra Hall\, Yong Siew Toh Conservatory of Music\, 3 Conservatory Drive\, Singapore\, 117376\, Singapore
ATTACH;FMTTYPE=image/jpeg:https://www.ystmusic.nus.edu.sg/wp-content/uploads/2019/10/102419-plenary-karin-schaupp-e1571020891207.jpg
END:VEVENT
END:VCALENDAR