BEGIN:VCALENDAR
VERSION:2.0
PRODID:-//YST Conservatory - ECPv6.15.17//NONSGML v1.0//EN
CALSCALE:GREGORIAN
METHOD:PUBLISH
X-WR-CALNAME:YST Conservatory
X-ORIGINAL-URL:https://www.ystmusic.nus.edu.sg
X-WR-CALDESC:Events for YST Conservatory
REFRESH-INTERVAL;VALUE=DURATION:PT1H
X-Robots-Tag:noindex
X-PUBLISHED-TTL:PT1H
BEGIN:VTIMEZONE
TZID:Asia/Singapore
BEGIN:STANDARD
TZOFFSETFROM:+0800
TZOFFSETTO:+0800
TZNAME:+08
DTSTART:20190101T000000
END:STANDARD
END:VTIMEZONE
BEGIN:VEVENT
DTSTART;TZID=Asia/Singapore:20201110T193000
DTEND;TZID=Asia/Singapore:20201110T210000
DTSTAMP:20260419T051636
CREATED:20200818T053248Z
LAST-MODIFIED:20201102T163055Z
UID:12060-1605036600-1605042000@www.ystmusic.nus.edu.sg
SUMMARY:Piano Duels
DESCRIPTION:PROGRAMME \nMOZARTLarghetto and Allegro in E-flat Major \nASHLEY CHUA KAI QIAN (B.Mus1) & VERNIS CHUA (B.Mus1) \nMOZARTSonata in D Major for Two Pianos\, K. 448I. Allegro con spiritoII. Andante \nCHERYL PANDORA (B.Mus1) & VIONA NATALIE SANJAYA (B.Mus1) \nLISZTRéminiscences de Don Juan\, S. 656 \nELIZABETH LOW (B.Mus4) & LIN XIANGNING (M.Mus2) \nBRAHMSVariations on a Theme by Haydn (“St. Anthony”)\, Op. 56b \nKUO LYU-YAN (B.Mus2) & SEAN GAN (B.Mus2) \nLISZTSymphonic Poem No. 3 “Les Préludes”\, S. 637 \nWANG HUANG HAO JIA (B.Mus2) & SETH TAN (B.Mus4) \nABOUT THIS EVENT  \nPiano pupils of Prof Thomas Hecht take the stage in this exciting exploration of music for two pianos.  \nThis event will be livestreamed on the Conservatory’s YouTube channel. Follow and subscribe to be notified of upcoming streams. \nSubscribe to YST’s mailing list. \nTICKETING INFORMATION  \n• Due to COVID-19 related guidelines\, this performance will only be offered virtually. • All event information is correct at time of print.
URL:https://www.ystmusic.nus.edu.sg/event/piano-duels-101120/
LOCATION:Conservatory Concert Hall\, Yong Siew Toh Conservatory of Music\, 3 Conservatory Drive\, 117376\, Singapore
ATTACH;FMTTYPE=image/jpeg:https://www.ystmusic.nus.edu.sg/wp-content/uploads/2020/08/website1500x722.jpg
END:VEVENT
END:VCALENDAR