BEGIN:VCALENDAR
VERSION:2.0
PRODID:-//YST Conservatory - ECPv6.15.17//NONSGML v1.0//EN
CALSCALE:GREGORIAN
METHOD:PUBLISH
X-WR-CALNAME:YST Conservatory
X-ORIGINAL-URL:https://www.ystmusic.nus.edu.sg
X-WR-CALDESC:Events for YST Conservatory
REFRESH-INTERVAL;VALUE=DURATION:PT1H
X-Robots-Tag:noindex
X-PUBLISHED-TTL:PT1H
BEGIN:VTIMEZONE
TZID:Asia/Singapore
BEGIN:STANDARD
TZOFFSETFROM:+0800
TZOFFSETTO:+0800
TZNAME:+08
DTSTART:20190101T000000
END:STANDARD
END:VTIMEZONE
BEGIN:VEVENT
DTSTART;TZID=Asia/Singapore:20200211T193000
DTEND;TZID=Asia/Singapore:20200211T193000
DTSTAMP:20260423T065727
CREATED:20200102T091416Z
LAST-MODIFIED:20200210T123705Z
UID:8477-1581449400-1581449400@www.ystmusic.nus.edu.sg
SUMMARY:[CANCELLED] Ones to Watch: Veits Quintet
DESCRIPTION:In view of current health and travel advisories\, this event has been cancelled. We apologise for any inconvenience caused. \nFor more information on the status of YST events\, please visit: bit.ly/yst-updates \nVEITS QUINTET SUNGHYUN CHO\, flute KYEONG HAM\, oboe HAN KIM\, clarinet RICARDO SILVA\, horn RIE KOYAMA\, bassoon  \nPROGRAMMEARNOLDThree Shanties   \nI. Allegro con brioII. Allegro sempliceII. Allegro vivace \nREICHAQuintet in E flat major Op. 88\, No.2      \nI. Lento. Allegro moderatoII. Menuetto: AllegroIII. Poco Andante – GraziosoIV. Finale: Allegretto  \nTOMASICinq Danses Profanes et Sacrées       \n1. Danse Agreste\n2. Danse Profane\n3. Danse Sacree\n4. Danse Nuptiale\n5. Danse Guerriere\nTAFFANELQuintet in G minor      \nI. Allegro con motoII. AndanteIII. Vivace \nHINDEMITHKleine Kammermusik\, Op. 24\, No.2 \nI. Lustig. Mäßig schnell ViertelII. Walzer. Durchweg sehr leiseIII. Ruhig und einfachIV. Schnelle ViertelV. Sehr lebhaft \nABOUT THIS EVENTThe critically acclaimed Veits Quintet performs classics from the woodwind quintet repertoire to demonstrate their individual and collective virtuosity. \nABOUT VEITS QUINTETThe Veits Quintet is quickly becoming as one of the most exciting and promising woodwind quintets of their generation. the quintet was established in 2012 with graduates of Universities in München\,Trossingen\, Berlin and London\, in addition to working closely with mentors including Prof. Martin Spangenberg\, Prof. Akio Koyama and Prof.Michael Hasel.  \nThe name of the quintet ‘Veits’ comes from the old German language\, with the meaning of ‘wood’ or ‘forest’\, as well as the venue of their first concert – Veits Cathedral. The individual members have worked with orchestras such as Berliner Philharmoniker\, Royal Concertgebouw Orchestra\, Bavarian Radio Symphony Orchestra\, Konzerthaus Berlin\, Staatsoper Hannover\, Finnish Radio Symphony Orchestra and Deutsche Kammerphilharmonie Bremen.  \nVeits Quintet was awarded the 2.Prize at the Carl Nielsen International Chamber Music Competition in Copenhagen in 2015 and the 1.Prize at the Braunschweig International Music Competition in 2013. They have performed at many Festivals and Venues around Europe and had successful debut concerts in Korea and Japan. \nSupported by: \n \n \nTICKETING INFORMATION • Free admission. • All event information is correct at time of print. • Out of respect for other concertgoers\, no children under 6 years of age will be allowed admission. 
URL:https://www.ystmusic.nus.edu.sg/event/otw-veits-quintet/
LOCATION:Conservatory Concert Hall\, Yong Siew Toh Conservatory of Music\, 3 Conservatory Drive\, 117376\, Singapore
ATTACH;FMTTYPE=image/jpeg:https://www.ystmusic.nus.edu.sg/wp-content/uploads/2020/01/veits.jpg
END:VEVENT
END:VCALENDAR