BEGIN:VCALENDAR
VERSION:2.0
PRODID:-//YST Conservatory - ECPv6.15.17//NONSGML v1.0//EN
CALSCALE:GREGORIAN
METHOD:PUBLISH
X-WR-CALNAME:YST Conservatory
X-ORIGINAL-URL:https://www.ystmusic.nus.edu.sg
X-WR-CALDESC:Events for YST Conservatory
REFRESH-INTERVAL;VALUE=DURATION:PT1H
X-Robots-Tag:noindex
X-PUBLISHED-TTL:PT1H
BEGIN:VTIMEZONE
TZID:Asia/Singapore
BEGIN:STANDARD
TZOFFSETFROM:+0800
TZOFFSETTO:+0800
TZNAME:+08
DTSTART:20240101T000000
END:STANDARD
END:VTIMEZONE
BEGIN:VEVENT
DTSTART;TZID=Asia/Singapore:20251111T193000
DTEND;TZID=Asia/Singapore:20251111T210000
DTSTAMP:20260416T055039
CREATED:20250729T091247Z
LAST-MODIFIED:20251110T090305Z
UID:39287-1762889400-1762894800@www.ystmusic.nus.edu.sg
SUMMARY:OpusNovus: Spectral Light
DESCRIPTION:Spectral Light is the final OpusNovus concert of the semester\, bringing together two ideas at its core: Grisey’s Partiels\, a seminal work of spectral music built from the overtones of a single trombone note\, and Thorvaldsdottir’s Illumine\, where sound slowly unfolds into glowing waves of resonance. Around them\, Shinohara’s Play for Nine Wind Instruments dazzles with rhythmic color\, Finnissy’s Not Envious of Rabbits pits volatility against fragile lyricism\, and Eötvös’ Lisztomania refracts Liszt’s Romantic brilliance through a contemporary lens. These works\, playful to luminous to monumental\, reveal how composers of the last fifty years have bent sound into new spectrums of expression.\n\nPROGRAMME \nANNA THORSVALDSDOTTIR Illumine \nVIKTORIA IVAYLOVA MARINOVA\, violinXU ZHUORUI\, violinZHAO TONGZHOU\, violinCAITLIN CHIN KAI LI\, violaYU YANG\, violaREN ZHIYI\, celloCHEN YOUJIA\, celloYUAN MOER\, double bass \nMAKOTO SHINOHARAPlay for Nine Wind Instruments \nOH SEONYOUNG\, fluteSIMEON YAP SHENG KIAT\, fluteQUEK JUN RUI\, oboeDOMINIC KOH\, clarinetZHANG LIANGLIANG\, clarinetLIU JIAYU\, bassoonLAU EN QI CHLOE\, hornCHIU FANG-MENG\, trumpetCHEN SHIJIN\, trombone \nPETER EÖTVÖS Lisztomania \nCHEN BO-YU\, pianoFONG JEAN YING\, pianoKUO LYU-CEN\, pianoLIN SHIH-EN\, piano \nMICHAEL FINNISSYNot Envious of Rabbits \nLIU JIAYU\, bassoonCHIU FANG-MENG\, trumpetCHEN SHIJIN\, tromboneTUNG WEI-ZHEN\, tubaZHAO TONGZHOU\, violinWANG JIAYE\, cello \nGERALD GRISEY Partiels \nOH SEONYOUNG\, fluteSIMEON YAP SHENG KIAT\, fluteQUEK JUN RUI\, oboeDOMINIC KOH\, clarinetZHANG LIANGLIANG\, clarinetSTEPHANIE TAN\, clarinetHARSHARON KAUR\, hornLAU EN QI CHLOE\, hornLOW KIM VEN\, bass tromboneEVELYN KUO CHAN\, percussionLIN YEN TING\, percussionCHEN BO-YU\, pianoCHIEN HSIN\, violinCHEN SHU-YU\, violinCAITLIN CHIN KAI LI\, violaYU YANG\, violaCHEN YOUJIA\, celloYUAN MOER\, double bass \n  \nTICKETING INFORMATION \nFree with registration via yst.eventbrite.com. \nOut of respect for the participants and other spectators\, no children under 6 years of age will be allowed admission. \nBe the first to hear about our upcoming events! Join our mailing list here.
URL:https://www.ystmusic.nus.edu.sg/event/opusnovus-111125/
LOCATION:YST Conservatory Foyer (TBC)\, Singapore
ATTACH;FMTTYPE=image/jpeg:https://www.ystmusic.nus.edu.sg/wp-content/uploads/2025/07/LRHor-OpusNovus2.jpg
END:VEVENT
END:VCALENDAR