BEGIN:VCALENDAR
VERSION:2.0
PRODID:-//YST Conservatory - ECPv6.15.17//NONSGML v1.0//EN
CALSCALE:GREGORIAN
METHOD:PUBLISH
X-WR-CALNAME:YST Conservatory
X-ORIGINAL-URL:https://www.ystmusic.nus.edu.sg
X-WR-CALDESC:Events for YST Conservatory
REFRESH-INTERVAL;VALUE=DURATION:PT1H
X-Robots-Tag:noindex
X-PUBLISHED-TTL:PT1H
BEGIN:VTIMEZONE
TZID:Asia/Singapore
BEGIN:STANDARD
TZOFFSETFROM:+0800
TZOFFSETTO:+0800
TZNAME:+08
DTSTART:20250101T000000
END:STANDARD
END:VTIMEZONE
BEGIN:VEVENT
DTSTART;TZID=Asia/Singapore:20260417T200000
DTEND;TZID=Asia/Singapore:20260417T213000
DTSTAMP:20260424T052455
CREATED:20260105T085046Z
LAST-MODIFIED:20260123T103308Z
UID:41622-1776456000-1776461400@www.ystmusic.nus.edu.sg
SUMMARY:NUS Arts Festival: 意·动 Yì·Dòng – Intent/Motion 
DESCRIPTION:意·动 Yì·Dòng – Intent/Motion  \nFrom intention\, movement is born. \nFrom movement\, meaning unfolds. \nFrom movement\, meaning unfolds. \n意·动 Yì·Dòng – Intent/Motion\, a Chinese dance showcase by NUS Chinese Dance that explores how intention (Yi) gives rise to movement (Dong)\, and how movement\, in turn\, deepens meaning. \nThrough breath\, rhythm\, and expression\, the body becomes a vessel for memory\, spirit\, and truth. \n\n\nTICKETING INFORMATION \nTickets via BookMyShow. \nPatrons without valid tickets will not be allowed entry. Out of respect for all patrons\, late admission will only be allowed at suitable intervals. No children under 6 years of age will be allowed admission. Food and drinks are not allowed inside the venue. \nNo refunds\, exchanges\, or cancellations will be accepted for inability to attend\, change of plans\, or failure to show up on the day of the event/session. \nBe the first to hear about our upcoming events! Join our mailing list here.
URL:https://www.ystmusic.nus.edu.sg/event/nuscd-yi-dong-intent-motion/
LOCATION:University Cultural Centre Theatre\, 50 Kent Ridge Crescent\, 119279\, Singapore
ATTACH;FMTTYPE=image/jpeg:https://www.ystmusic.nus.edu.sg/wp-content/uploads/2026/01/2026_NUSCD-scaled.jpg
END:VEVENT
END:VCALENDAR