BEGIN:VCALENDAR
VERSION:2.0
PRODID:-//YST Conservatory - ECPv6.15.17//NONSGML v1.0//EN
CALSCALE:GREGORIAN
METHOD:PUBLISH
X-WR-CALNAME:YST Conservatory
X-ORIGINAL-URL:https://www.ystmusic.nus.edu.sg
X-WR-CALDESC:Events for YST Conservatory
REFRESH-INTERVAL;VALUE=DURATION:PT1H
X-Robots-Tag:noindex
X-PUBLISHED-TTL:PT1H
BEGIN:VTIMEZONE
TZID:Asia/Singapore
BEGIN:STANDARD
TZOFFSETFROM:+0800
TZOFFSETTO:+0800
TZNAME:+08
DTSTART:20250101T000000
END:STANDARD
END:VTIMEZONE
BEGIN:VEVENT
DTSTART;TZID=Asia/Singapore:20260416T193000
DTEND;TZID=Asia/Singapore:20260416T210000
DTSTAMP:20260415T204812
CREATED:20260105T084709Z
LAST-MODIFIED:20260105T084757Z
UID:41639-1776367800-1776373200@www.ystmusic.nus.edu.sg
SUMMARY:Nusa Swara
DESCRIPTION:Inspired by their collaborative teaching of YST’s World Music Ensemble course\, “Nusa Swara” (Island Voices) is presented by Syafiqah ‘Adha and Rosemainy Buang and explores the creation of new music by harnessing sounds of the Nusantara/Malay world with technology. Through their collaboration\, Syafiqah and Rose will uncover novel musical expressions from the convergence and collision of traditional and contemporary elements from each of their own musical background and expertise. Their music will also explore themes of customs and rituals\, home\, identity and womanhood. \nABOUT SYAFIQAH ‘ADHASyafiqah ‘Adha is a prominent figure in Singapore’s music scene as a composer\, a traditional Malay music accordionist and an educator. While formally trained in the genre of contemporary classical music\, Syafiqah emerges as a versatile composer. Her creative aesthetic is a unique voice that stems from her foundations as a classical-trained musician and a traditional Malay music practitioner. Syafiqah often engages in collaborative multi-disciplinary and intercultural works to expand her creative output and find new meanings in collective musical expressions. \nABOUT ROSEMAINY BUANGRosemainy Buang is a Singaporean gamelan musician\, educator\, composer and sound artist who\, with over a decade of gamelan training\, continues to broaden her creative horizons through interdisciplinary collaborations\, approaching art-making with a multi-disciplinary and experimental spirit that seeks to question\, build upon\, and expand the limits of traditional soundscapes\, philosophies and aesthetics. \n \nSYAFIQAH ‘ADHAROSEMAINY BUANGYST WORLD MUSIC ENSEMBLE\nTICKETING INFORMATION \nFree with registration via yst.eventbrite.com \nPatrons without valid tickets will not be allowed entry. Out of respect for all patrons\, late admission will only be allowed at suitable intervals. No children under 6 years of age will be allowed admission. Food and drinks are not allowed inside the venue. \nNo refunds\, exchanges\, or cancellations will be accepted for inability to attend\, change of plans\, or failure to show up on the day of the event/session. \nBe the first to hear about our upcoming events! Join our mailing list here. \n  \nACCESSIBILITY \nYST offers step-free access from the street to all venues within the building. Accessible seating arrangements can be made for patrons with access needs. If you require more information about our facilities or wish to book accessible seats\, please contact muscomms@nus.edu.sg
URL:https://www.ystmusic.nus.edu.sg/event/nusa-swara/
LOCATION:YST Recital Studio\, Yong Siew Toh Conservatory of Music\, 3 Conservatory Drive\, Singapore\, 117376\, Singapore
ATTACH;FMTTYPE=image/jpeg:https://www.ystmusic.nus.edu.sg/wp-content/uploads/2026/01/2026_Nusa-Swara-scaled.jpg
END:VEVENT
END:VCALENDAR