BEGIN:VCALENDAR
VERSION:2.0
PRODID:-//YST Conservatory - ECPv6.15.17//NONSGML v1.0//EN
CALSCALE:GREGORIAN
METHOD:PUBLISH
X-WR-CALNAME:YST Conservatory
X-ORIGINAL-URL:https://www.ystmusic.nus.edu.sg
X-WR-CALDESC:Events for YST Conservatory
REFRESH-INTERVAL;VALUE=DURATION:PT1H
X-Robots-Tag:noindex
X-PUBLISHED-TTL:PT1H
BEGIN:VTIMEZONE
TZID:Asia/Singapore
BEGIN:STANDARD
TZOFFSETFROM:+0800
TZOFFSETTO:+0800
TZNAME:+08
DTSTART:20200101T000000
END:STANDARD
END:VTIMEZONE
BEGIN:VEVENT
DTSTART;TZID=Asia/Singapore:20210929T121000
DTEND;TZID=Asia/Singapore:20210929T131000
DTSTAMP:20260416T055441
CREATED:20210601T154835Z
LAST-MODIFIED:20210924T045547Z
UID:16730-1632917400-1632921000@www.ystmusic.nus.edu.sg
SUMMARY:Noon Recital
DESCRIPTION:PROGRAMME \nJOHANN NEPOMUK HUMMELBassoon Concerto in F Major\, woO 23\,S63I. Allegro \n       SONG YUHUI (B.Mus3)\, bassoon       LIU JIA\, piano \nDVOŘÁKPiano Trio No. 1 in B-flat Major\, Op. 21 I. Allegro molto \nFOO YUE NING (B.Mus2)\, violinTAN SHI LING DENISE (B.Mus3)\, celloASHLEY CHUA KAI QIAN (B.Mus2)\, piano \nPAUL DUKASLe Peri \nPETER SCHICKELEMonochrome \nYST Trombone ChoirSAMUEL ARMSTRONG\, conductorKWEK WEI CHENG (M.Mus2) LIANG HAN-YUN (B.Mus1) YEE CHOON YONG WILLIAM (B.Mus3)KHAMIDULLA BORLIBOEV(B.Mus2)STEFAN BENCIC (B.Mus3)LIM WEN JIE (B.Mus4) NG JUN JIE (B.Mus2) JENIFFER CORISMA (B.Mus2)SHIN TANAKA (B.Mus2)  \nNIELS VIGGO BENTZONMicro-Trio\, Op. 573 \nZHAO LEYAN (B.Mus2)\, cello ZHOU DI (B.Mus3)\, tuba ADAM SHARAWI (B.Mus2)\, percussion  \nABOUT THIS EVENT \nThe Wednesday Noon Recitals offer short student performance from the full range of Conservatory activity\, an ideal introduction to the world of classical music. \nThis event will be livestreamed on the Conservatory’s YouTube channel. Follow and subscribe to be notified of upcoming streams. \nSubscribe to YST’s mailing list. \nTICKETING INFORMATION  \n• Due to COVID-19 related guidelines\, this performance will only be offered virtually. • All event information is correct at time of print.
URL:https://www.ystmusic.nus.edu.sg/event/noon-recital290921/
LOCATION:Conservatory Concert Hall\, Yong Siew Toh Conservatory of Music\, 3 Conservatory Drive\, 117376\, Singapore
ATTACH;FMTTYPE=image/jpeg:https://www.ystmusic.nus.edu.sg/wp-content/uploads/2021/01/trombone.jpg
END:VEVENT
END:VCALENDAR