BEGIN:VCALENDAR
VERSION:2.0
PRODID:-//YST Conservatory - ECPv6.15.17//NONSGML v1.0//EN
CALSCALE:GREGORIAN
METHOD:PUBLISH
X-WR-CALNAME:YST Conservatory
X-ORIGINAL-URL:https://www.ystmusic.nus.edu.sg
X-WR-CALDESC:Events for YST Conservatory
REFRESH-INTERVAL;VALUE=DURATION:PT1H
X-Robots-Tag:noindex
X-PUBLISHED-TTL:PT1H
BEGIN:VTIMEZONE
TZID:Asia/Singapore
BEGIN:STANDARD
TZOFFSETFROM:+0800
TZOFFSETTO:+0800
TZNAME:+08
DTSTART:20200101T000000
END:STANDARD
END:VTIMEZONE
BEGIN:VEVENT
DTSTART;TZID=Asia/Singapore:20211006T121000
DTEND;TZID=Asia/Singapore:20211006T131000
DTSTAMP:20260424T064010
CREATED:20210601T155048Z
LAST-MODIFIED:20211005T072423Z
UID:16732-1633522200-1633525800@www.ystmusic.nus.edu.sg
SUMMARY:Noon Recital
DESCRIPTION:PROGRAMME \nTAI YUN MING (B.Mus4)His Wings \nViolin I\nNEVILLE ATHENASIUS ANG XIN CHUN (M.Mus1)\, YAO LIANG-YU (B.MUS4)\, KAMILLA NURMATOVA (B.Mus4) & SHUGO HAYASHI (B.Mus4)\n \nViolin II\nCHIEN-CHIN (B.Mus3)\, MA MINGYUAN (B.Mus3) & LUO JUNTAO (B.Mus3)\n \nViola\nLIU CHI-YUN (B.Mus4) & HSU MIN JOELLE (B.Mus3)\n \nCello\nYANG SHUN-MING (B.Mus4) & KIM MIKANG (B.Mus4)\n \nDouble Bass\nFANG PO-YU (B.Mus4)\n \nPiano\nTAY SHU WEN (B.Mus4)\n \nConductor\nKOH KAI JIE (M.Mus1)\nJ.S. BACHPartita for Violin Solo No. 2 in D Minor\, BWV 1004V. Chaconne \nCHAN WAI MUN JOANNE (B.Mus2)\, violin \nSCHUMANNFantasiestücke\, Op. 73I. Zart und mit AusdruckII. Lebhaft\, leichtIII. Rasch und Feuer \nZHAO LEYAN (B.Mus2)\, cello LIU JIA\, piano \nPROKOFIEVViolin Sonata No. 2 in D Major\, Op. 94b I. Moderato II. Presto \nJORIM JIREH SIM (B.Mus3)\, violin BEATRICE LIN\, piano \nABOUT THIS EVENT \nThe Wednesday Noon Recitals offer short student performance from the full range of Conservatory activity\, an ideal introduction to the world of classical music. \nSubscribe to YST’s mailing list. \nTICKETING INFORMATION  \n• All event information is correct at time of print.
URL:https://www.ystmusic.nus.edu.sg/event/noon-recital061021/
LOCATION:Conservatory Concert Hall\, Yong Siew Toh Conservatory of Music\, 3 Conservatory Drive\, 117376\, Singapore
ATTACH;FMTTYPE=image/jpeg:https://www.ystmusic.nus.edu.sg/wp-content/uploads/2021/04/cello-banner-crop.jpg
END:VEVENT
END:VCALENDAR