BEGIN:VCALENDAR
VERSION:2.0
PRODID:-//YST Conservatory - ECPv6.15.17//NONSGML v1.0//EN
CALSCALE:GREGORIAN
METHOD:PUBLISH
X-WR-CALNAME:YST Conservatory
X-ORIGINAL-URL:https://www.ystmusic.nus.edu.sg
X-WR-CALDESC:Events for YST Conservatory
REFRESH-INTERVAL;VALUE=DURATION:PT1H
X-Robots-Tag:noindex
X-PUBLISHED-TTL:PT1H
BEGIN:VTIMEZONE
TZID:Asia/Singapore
BEGIN:STANDARD
TZOFFSETFROM:+0800
TZOFFSETTO:+0800
TZNAME:+08
DTSTART:20230101T000000
END:STANDARD
END:VTIMEZONE
BEGIN:VEVENT
DTSTART;TZID=Asia/Singapore:20240327T121000
DTEND;TZID=Asia/Singapore:20240327T133000
DTSTAMP:20260422T161118
CREATED:20240102T103844Z
LAST-MODIFIED:20240326T084728Z
UID:32707-1711541400-1711546200@www.ystmusic.nus.edu.sg
SUMMARY:Noon Recital
DESCRIPTION:PROGRAMME \nFRANZ LISZTBallade No.2\, S.171 \nCHUA KAI EN VERNIS (B.mus4)\, piano \nWILHELM POSSE 8 große Konzertetüden\, Etüde No. 2 \nGEORGE FRIDERIC HANDEL Harp Concerto in Bb major\, Op.4\, No.6\, HWV 294 I. Andante Allegro \nVANESSA JAZZY WAHYUDY IRWANTO (B.mus2)\, harp \nDMITRI SHOSTAKOVICHCello Sonata\, Op.40I. Allegro non troppoII. Allegro \nZHAO LEYAN (B.Mus4)\, celloLIU JIA\, piano \nGEORGE ENESCUCantabile et Presto \nQUEK JUN HAO JULIEN (B.Mus 3)\, fluteMATTHEW MAK\, piano \nANTONÍN DVOŘÁKPiano Quintet No. 2\, Op.81II.  Dumka. Andante con moto  \nCHIEN HSIN (B.Mus1)\, violinTSAO WEI-CHUN (B.Mus2)\, violinPAO YU-LIN (B.Mus2)\, violaCHEN PEI-YI (B.Mus2)\, celloCHAKRIT KHANONVEJ (B.Mus2)\, piano \nABOUT THIS EVENT \nThe Wednesday Noon Recitals offer short student performance from the full range of Conservatory activity\, an ideal introduction to the world of classical music. \nSubscribe to YST’s mailing list. \nTICKETING INFORMATION \nFree admission. \nOut of respect for other concertgoers\, no children under 6 years of age will be allowed admission. \n* All event information is correct at time of print.
URL:https://www.ystmusic.nus.edu.sg/event/noon-recital-270324/
LOCATION:Conservatory Concert Hall\, Yong Siew Toh Conservatory of Music\, 3 Conservatory Drive\, 117376\, Singapore
ATTACH;FMTTYPE=image/jpeg:https://www.ystmusic.nus.edu.sg/wp-content/uploads/2023/11/Concert-Hall-banner-scaled.jpg
END:VEVENT
END:VCALENDAR