BEGIN:VCALENDAR
VERSION:2.0
PRODID:-//YST Conservatory - ECPv6.15.17//NONSGML v1.0//EN
CALSCALE:GREGORIAN
METHOD:PUBLISH
X-WR-CALNAME:YST Conservatory
X-ORIGINAL-URL:https://www.ystmusic.nus.edu.sg
X-WR-CALDESC:Events for YST Conservatory
REFRESH-INTERVAL;VALUE=DURATION:PT1H
X-Robots-Tag:noindex
X-PUBLISHED-TTL:PT1H
BEGIN:VTIMEZONE
TZID:Asia/Singapore
BEGIN:STANDARD
TZOFFSETFROM:+0800
TZOFFSETTO:+0800
TZNAME:+08
DTSTART:20190101T000000
END:STANDARD
END:VTIMEZONE
BEGIN:VEVENT
DTSTART;TZID=Asia/Singapore:20200122T121000
DTEND;TZID=Asia/Singapore:20200122T131000
DTSTAMP:20260424T064759
CREATED:20200102T091358Z
LAST-MODIFIED:20200120T052434Z
UID:8463-1579695000-1579698600@www.ystmusic.nus.edu.sg
SUMMARY:Wednesday Noon Recital
DESCRIPTION:PROGRAMME J.S. BACHPartita No. 6 in E minorI. Toccata \nSCHUMANN/LISZTWidmung \nSHAYNA YAP (B.Mus4)\, piano \nIBERT Flute ConcertoIII. Allegro scherzando \nVIKTORIYA KLYUKINA (B.Mus2)\, fluteMATTHEW MAK\, piano \nPROKOFIEV (1891)5 Mélodies\, Op.35I. AndanteII. Lento\, ma non troppoIII. Animato\, ma non allegroIV. Andantino\, un poco scherzandoV. Andante non troppo \nZHANG YUCHEN (B.Mus4)\, violinGE XIAOZHE\, piano \nJ.S. BACHSonata No. 2 in A minorI. Grave \nPAGANINI Caprice No. 24 \nJOEY LAU (B.Mus4)\, violin \nABOUT THIS EVENTThe Wednesday Noon Recitals offer short student performances from the full range of Conservatory activity\, an ideal introduction to the world of classical music.  \nTICKETING INFORMATION • Free admission • All event information is correct at time of print. • Out of respect for other concertgoers\, no children under 6 years of age will be allowed admission.
URL:https://www.ystmusic.nus.edu.sg/event/noon-recital-220120/
LOCATION:Conservatory Concert Hall\, Yong Siew Toh Conservatory of Music\, 3 Conservatory Drive\, 117376\, Singapore
ATTACH;FMTTYPE=image/jpeg:https://www.ystmusic.nus.edu.sg/wp-content/uploads/2020/01/noon.jpg
END:VEVENT
END:VCALENDAR