BEGIN:VCALENDAR
VERSION:2.0
PRODID:-//YST Conservatory - ECPv6.15.17//NONSGML v1.0//EN
CALSCALE:GREGORIAN
METHOD:PUBLISH
X-WR-CALNAME:YST Conservatory
X-ORIGINAL-URL:https://www.ystmusic.nus.edu.sg
X-WR-CALDESC:Events for YST Conservatory
REFRESH-INTERVAL;VALUE=DURATION:PT1H
X-Robots-Tag:noindex
X-PUBLISHED-TTL:PT1H
BEGIN:VTIMEZONE
TZID:Asia/Singapore
BEGIN:STANDARD
TZOFFSETFROM:+0800
TZOFFSETTO:+0800
TZNAME:+08
DTSTART:20190101T000000
END:STANDARD
END:VTIMEZONE
BEGIN:VEVENT
DTSTART;TZID=Asia/Singapore:20200212T121000
DTEND;TZID=Asia/Singapore:20200212T121000
DTSTAMP:20260416T202820
CREATED:20200102T091417Z
LAST-MODIFIED:20200211T105703Z
UID:8478-1581509400-1581509400@www.ystmusic.nus.edu.sg
SUMMARY:[INTERNAL] Wednesday Noon Recital
DESCRIPTION:In view of current health and travel advisories\, this event will no longer be open to the general public.  \nInternal events will only be open to YST faculty\, staff and students. \nFor more information on the status of YST events\, please visit: bit.ly/yst-updates \nPROGRAMME  \nMAURICE RAVEL\nLe Tombeau de Couperin\nI. Prelude\nII. Forlane\nIV. Rigaudon\n \nKOH KAI JIE (B.Mus3)\, conductor\n\nMusicians List\n\n \n \nHENRYK WIENIAWSKI\nPolonaise No. 1 in D major\, Op. 4\n \nLIN YU-CHEN (B.Mus 3)\, violin\nCHIU YI-RU (B.Mus 3)\, piano\n \n \nJOHANNES BRAHMS\nViolin Sonata No.3\, Op.108\nI. Allegro\n \nZHANG YUCHEN (B.Mus4)\, violin\n \n \nJOAN TOWER\nCopperwave\n \nJID-ANAN NETTHAI (B.Mus3)\, trumpet\nPHAN THANH BINH (B.Mus3)\, trumpet\nKATHERINE YANG (B.Mus3)\, french horn\nDANILO CONTRERAS (B.Mus3)\, trombone\nPAWIN PUNGBUA (B.Mus4)\, bass trombone\nTICKETING INFORMATION • Free admission. • All event information is correct at time of print. • Out of respect for other concertgoers\, no children under 6 years of age will be allowed admission.
URL:https://www.ystmusic.nus.edu.sg/event/noon-recital-120220/
LOCATION:Conservatory Concert Hall\, Yong Siew Toh Conservatory of Music\, 3 Conservatory Drive\, 117376\, Singapore
ATTACH;FMTTYPE=image/jpeg:https://www.ystmusic.nus.edu.sg/wp-content/uploads/2020/01/noon.jpg
END:VEVENT
END:VCALENDAR