BEGIN:VCALENDAR
VERSION:2.0
PRODID:-//YST Conservatory - ECPv6.15.17//NONSGML v1.0//EN
CALSCALE:GREGORIAN
METHOD:PUBLISH
X-WR-CALNAME:YST Conservatory
X-ORIGINAL-URL:https://www.ystmusic.nus.edu.sg
X-WR-CALDESC:Events for YST Conservatory
REFRESH-INTERVAL;VALUE=DURATION:PT1H
X-Robots-Tag:noindex
X-PUBLISHED-TTL:PT1H
BEGIN:VTIMEZONE
TZID:Asia/Singapore
BEGIN:STANDARD
TZOFFSETFROM:+0800
TZOFFSETTO:+0800
TZNAME:+08
DTSTART:20190101T000000
END:STANDARD
END:VTIMEZONE
BEGIN:VEVENT
DTSTART;TZID=Asia/Singapore:20201111T121000
DTEND;TZID=Asia/Singapore:20201111T130000
DTSTAMP:20260419T135321
CREATED:20200818T055327Z
LAST-MODIFIED:20201109T155650Z
UID:12061-1605096600-1605099600@www.ystmusic.nus.edu.sg
SUMMARY:Noon Recital
DESCRIPTION:PROGRAMME \nHENRY ECCLESSonata No. 11 in G minorI. Largo II. Corrente\, Allegro staccato III. Adagio IV. Presto \nZHOU DI (B.Mus2)\, tubaSEAN GAN (B.Mus2)\, piano \nCAMILLE SAINT-SAËNSClarinet Sonata in E-flat major\, Op. 167III. LentoIV. Molto Allegro \nCHEN I-CHING (B.Mus3)\, clarinetBEATRICE LIN\, piano \nVLADIMIR TSYBINConcerto Allegro No. 1 in A minor \nVIKTORIYA KLYUKINA (B.Mus3)\, fluteMATTHEW MAK\, piano \nARNOLD BAXViola SonataIII. Molto lento \nCAO LAN (B.Mus3)\, violaLIU JIA\, piano \nJOHN STEVENSTriangles \nKATHERINE YANG (B.Mus4)\, hornDANILO CONTRERAS (B.Mus4)\, tromboneZHOU DI (B.Mus2)\, tuba \nABOUT THIS EVENT \n \nThe Wednesday Noon Recitals offer short student performance from the full range of Conservatory activity\, an ideal introduction to the world of classical music. \nThis event will be livestreamed on the Conservatory’s YouTube channel. Follow and subscribe to be notified of upcoming streams. \nSubscribe to YST’s mailing list. \nTICKETING INFORMATION  \n• Due to COVID-19 related guidelines\, this performance will only be offered virtually. • All event information is correct at time of print.
URL:https://www.ystmusic.nus.edu.sg/event/noon-recital-111120/
LOCATION:Conservatory Concert Hall\, Yong Siew Toh Conservatory of Music\, 3 Conservatory Drive\, 117376\, Singapore
ATTACH;FMTTYPE=image/jpeg:https://www.ystmusic.nus.edu.sg/wp-content/uploads/2020/08/Zhou-Di.jpg
END:VEVENT
END:VCALENDAR