BEGIN:VCALENDAR
VERSION:2.0
PRODID:-//YST Conservatory - ECPv6.15.17//NONSGML v1.0//EN
CALSCALE:GREGORIAN
METHOD:PUBLISH
X-WR-CALNAME:YST Conservatory
X-ORIGINAL-URL:https://www.ystmusic.nus.edu.sg
X-WR-CALDESC:Events for YST Conservatory
REFRESH-INTERVAL;VALUE=DURATION:PT1H
X-Robots-Tag:noindex
X-PUBLISHED-TTL:PT1H
BEGIN:VTIMEZONE
TZID:Asia/Singapore
BEGIN:STANDARD
TZOFFSETFROM:+0800
TZOFFSETTO:+0800
TZNAME:+08
DTSTART:20190101T000000
END:STANDARD
END:VTIMEZONE
BEGIN:VEVENT
DTSTART;TZID=Asia/Singapore:20200205T121000
DTEND;TZID=Asia/Singapore:20200205T131000
DTSTAMP:20260421T200818
CREATED:20200102T091415Z
LAST-MODIFIED:20200202T155838Z
UID:8472-1580904600-1580908200@www.ystmusic.nus.edu.sg
SUMMARY:Wednesday Noon Recital
DESCRIPTION:PROGRAMME  \nFRANZ SCHUBERTDie Taubenpost from Schwanengesang \nRICHARD STRAUSS All’ mein Gedanken\, Op. 21\, No. 1 \nTAN SEE HUEY (B.Mus2)\, sopranoCHOI HYE-SEON\, piano \nIGOR FROLOVDivertimento for Two Violins and Piano \nRODION SYNCHYSHYN (B.Mus4)\, violin IBOBUR ESHPULATOV (B.Mus3)\, violin IIKERIM VERGAZOV\, piano \nTRYGVE MADSENSonata for Tuba and Piano\, Op. 34I. Andante sostenuto \nTAN SHUN ZHONG (B.Mus2)\, tubaRACHEL CHEN\, piano \nFRANK PROTOCarmen FantasyIII. Nocturne – Micaela’s AriaV. Bohemian Dance \nFANG PO-YU (B.Mus2)\, double bassKERIM VERGAZOV\, piano \nPAUL SCHOENFIELDTrio for Violin\, Clarinet and PianoIII. NigunIV. Kozatzke \nNATALIE KOH (B.Mus4)\, violinCHIANG YUNG-YUAN (B.Mus4)\, clarinetPUALINA LIM (B.Mus3)\, piano \nABOUT THIS EVENTThe Wednesday Noon Recitals offer short student performances from the full range of Conservatory activity\, an ideal introduction to the world of classical music.  \nTICKETING INFORMATION • Free admission. • All event information is correct at time of print. • Out of respect for other concertgoers\, no children under 6 years of age will be allowed admission.
URL:https://www.ystmusic.nus.edu.sg/event/noon-recital-050220/
LOCATION:Conservatory Concert Hall\, Yong Siew Toh Conservatory of Music\, 3 Conservatory Drive\, 117376\, Singapore
ATTACH;FMTTYPE=image/jpeg:https://www.ystmusic.nus.edu.sg/wp-content/uploads/2020/01/noon.jpg
END:VEVENT
END:VCALENDAR