BEGIN:VCALENDAR
VERSION:2.0
PRODID:-//YST Conservatory - ECPv6.15.17//NONSGML v1.0//EN
CALSCALE:GREGORIAN
METHOD:PUBLISH
X-WR-CALNAME:YST Conservatory
X-ORIGINAL-URL:https://www.ystmusic.nus.edu.sg
X-WR-CALDESC:Events for YST Conservatory
REFRESH-INTERVAL;VALUE=DURATION:PT1H
X-Robots-Tag:noindex
X-PUBLISHED-TTL:PT1H
BEGIN:VTIMEZONE
TZID:Asia/Singapore
BEGIN:STANDARD
TZOFFSETFROM:+0800
TZOFFSETTO:+0800
TZNAME:+08
DTSTART:20200101T000000
END:STANDARD
END:VTIMEZONE
BEGIN:VEVENT
DTSTART;TZID=Asia/Singapore:20211009T150000
DTEND;TZID=Asia/Singapore:20211009T170000
DTSTAMP:20260426T043404
CREATED:20210602T131839Z
LAST-MODIFIED:20211005T075418Z
UID:16793-1633791600-1633798800@www.ystmusic.nus.edu.sg
SUMMARY:[CANCELLED] Modern Music Matinee
DESCRIPTION:PROGRAMME \nTBC \nABOUT THIS EVENT  \nThe Modern Music Matinee aims to promote contemporary compositions and performance styles in a casual and accessible setting. This concert will be performed by members of OpusNovus\, the conservatory’s contemporary ensemble. \nSubscribe to YST’s mailing list. \nTICKETING INFORMATION• All event information is correct at time of print.
URL:https://www.ystmusic.nus.edu.sg/event/mmm091021/
LOCATION:Conservatory Orchestra Hall\, Yong Siew Toh Conservatory of Music\, 3 Conservatory Drive\, Singapore\, 117376\, Singapore
ATTACH;FMTTYPE=image/jpeg:https://www.ystmusic.nus.edu.sg/wp-content/uploads/2021/01/MMM.jpg
END:VEVENT
END:VCALENDAR