BEGIN:VCALENDAR
VERSION:2.0
PRODID:-//YST Conservatory - ECPv6.15.17//NONSGML v1.0//EN
CALSCALE:GREGORIAN
METHOD:PUBLISH
X-WR-CALNAME:YST Conservatory
X-ORIGINAL-URL:https://www.ystmusic.nus.edu.sg
X-WR-CALDESC:Events for YST Conservatory
REFRESH-INTERVAL;VALUE=DURATION:PT1H
X-Robots-Tag:noindex
X-PUBLISHED-TTL:PT1H
BEGIN:VTIMEZONE
TZID:Asia/Singapore
BEGIN:STANDARD
TZOFFSETFROM:+0800
TZOFFSETTO:+0800
TZNAME:+08
DTSTART:20200101T000000
END:STANDARD
END:VTIMEZONE
BEGIN:VEVENT
DTSTART;TZID=Asia/Singapore:20210426T201000
DTEND;TZID=Asia/Singapore:20210426T211000
DTSTAMP:20260416T153038
CREATED:20210222T174737Z
LAST-MODIFIED:20210422T094235Z
UID:14432-1619467800-1619471400@www.ystmusic.nus.edu.sg
SUMMARY:Masters Recital: Clarinet
DESCRIPTION:8:10pmLI XIN (M.Mus1)\, clarinet \nPROGRAMME \nCLAUDE DEBUSSYPremière Rhapsodie \nLI XIN (M.Mus1)\, clarinetBEATRICE LIN\, piano \nIGOR STRAVINSKYL’histoire du soldat for clarinet\, violin and piano \nLI XIN (M.Mus1)\, clarinetYAO LIANG-YU (B.Mus3)\, violinPUALINA LIM MEI EN (B.Mus4)\, piano \n– Intermission (10 mins) –  \nCARL NIELSENClarinet Concerto\, Op. 57\, FS 129I. Allegretto un pocoII. Poco adagioIII. Allegro non troppo – Adagio – Allegro vivace  \nLI XIN (M.Mus1)\, clarinetLEE YU RU (B.Mus4)\, snare drumBEATRICE LIN\, piano \nProgramme booklet \n\nABOUT THIS EVENT \nAs part of their graduation requirements for music performance\, YST Conservatory Masters’ students each present an hour long recital. \nThis event will be livestreamed on the Conservatory’s YouTube channel. Follow and subscribe to be notified of upcoming streams. \nSubscribe to YST’s mailing list. \nTICKETING INFORMATION  \n• Due to COVID-19 related guidelines\, this performance will only be offered virtually. • All event information is correct at time of print.
URL:https://www.ystmusic.nus.edu.sg/event/masters-recital-masterclarinet260421/
LOCATION:Conservatory Concert Hall\, Yong Siew Toh Conservatory of Music\, 3 Conservatory Drive\, 117376\, Singapore
ATTACH;FMTTYPE=image/jpeg:https://www.ystmusic.nus.edu.sg/wp-content/uploads/2021/02/Li-Xin.jpg
END:VEVENT
END:VCALENDAR