BEGIN:VCALENDAR
VERSION:2.0
PRODID:-//YST Conservatory - ECPv6.15.17//NONSGML v1.0//EN
CALSCALE:GREGORIAN
METHOD:PUBLISH
X-WR-CALNAME:YST Conservatory
X-ORIGINAL-URL:https://www.ystmusic.nus.edu.sg
X-WR-CALDESC:Events for YST Conservatory
REFRESH-INTERVAL;VALUE=DURATION:PT1H
X-Robots-Tag:noindex
X-PUBLISHED-TTL:PT1H
BEGIN:VTIMEZONE
TZID:Asia/Singapore
BEGIN:STANDARD
TZOFFSETFROM:+0800
TZOFFSETTO:+0800
TZNAME:+08
DTSTART:20240101T000000
END:STANDARD
END:VTIMEZONE
BEGIN:VEVENT
DTSTART;TZID=Asia/Singapore:20250426T000000
DTEND;TZID=Asia/Singapore:20250426T235959
DTSTAMP:20260422T204639
CREATED:20250414T134205Z
LAST-MODIFIED:20250426T081929Z
UID:38382-1745625600-1745711999@www.ystmusic.nus.edu.sg
SUMMARY:Master’s Recital: Cello Session
DESCRIPTION:8:10pm \nGAN YILIN (MMus1)\, celloBEATRICE LIN\, piano \nPROGRAMME \nLUDWIG VAN BEETHOVEN Cello Sonata No.3 in A major\, Op.69 I. Allegro II. Scherzo III. Adagio \n– intermission 15 minutes – \nJOHANNES BRAHMSCello Sonata No.1 in e minor\, Op.38I. AllegroII. AllegrettoIII. Allegro \nProgramme Notes \n\nABOUT THIS PROGRAMME \nAs part of their graduation requirements for music performance\, Master’s YST Conservatory students present an hour-long recital.   \nSubscribe to YST’s mailing list. \nTICKETING INFORMATION \nFree Admission. \nOut of respect for the participants and other spectators\, no children under 6 years of age will be allowed admission. \n*All event information is correct at the time of print.
URL:https://www.ystmusic.nus.edu.sg/event/masters-recital-cello/
LOCATION:YST Concert Hall\, Yong Siew Toh Conservatory of Music\, 3 Conservatory Drive\, Singapore\, 117376\, Singapore
END:VEVENT
END:VCALENDAR