BEGIN:VCALENDAR
VERSION:2.0
PRODID:-//YST Conservatory - ECPv6.15.17//NONSGML v1.0//EN
CALSCALE:GREGORIAN
METHOD:PUBLISH
X-WR-CALNAME:YST Conservatory
X-ORIGINAL-URL:https://www.ystmusic.nus.edu.sg
X-WR-CALDESC:Events for YST Conservatory
REFRESH-INTERVAL;VALUE=DURATION:PT1H
X-Robots-Tag:noindex
X-PUBLISHED-TTL:PT1H
BEGIN:VTIMEZONE
TZID:Asia/Singapore
BEGIN:STANDARD
TZOFFSETFROM:+0800
TZOFFSETTO:+0800
TZNAME:+08
DTSTART:20250101T000000
END:STANDARD
END:VTIMEZONE
BEGIN:VEVENT
DTSTART;TZID=Asia/Singapore:20260505T163000
DTEND;TZID=Asia/Singapore:20260505T184000
DTSTAMP:20260421T111712
CREATED:20260420T011042Z
LAST-MODIFIED:20260420T011042Z
UID:44126-1777998600-1778006400@www.ystmusic.nus.edu.sg
SUMMARY:Masters Recital: Violin Session
DESCRIPTION:PROGRAMME \n4.30PM LIU ZHAOLONG (MMus) \nLIU ZHAOLONG\, violinCHERIE KHOR\, piano \nEDVARD GRIEG Violin Sonata No.2 in G Major\, Op. 13I. Lento doloroso-Allegro vivace II. Allegretto tranquillo III. Allegro animato \nJOHANNES BRAHMS Violin Sonata No.2 in A Major\, Op. 100 I. Allegro amabile II. Andante tranquillo-Vivace-Andante-Vivace di più-Andante-Vivace III. Allegretto grazioso \nFRITZ KREISLER Toy Soldier’s March \nCHRISTOPH WILLIBALD Gluck Melodie \nFRITZ KREISLER Miniature Viennese March \n  \n5.40PM ZOU MENGNA (MMus) \nSAINT-SAËNSViolin Sonata No. 1 in D minor\, Op. 75 \nSCHUBERTViolin Sonata in A Minor“Sonatina”\, D. 385 \nSARASATEDanzas Españolas\, Op. 21: No. 2Habanera \n  \n\nABOUT THIS PROGRAMME \nAs part of their graduation requirements for music performance\, Masters YST Conservatory students present an hour long recital. \nSubscribe to YST’s mailing list. \nTICKETING INFORMATION \nFree Admission. \nOut of respect for the participants and other spectators\, no children under 6 years of age will be allowed admission. \n*All event information is correct at the time of print.
URL:https://www.ystmusic.nus.edu.sg/event/masters-recital-2526s2-violin/
LOCATION:YST Concert Hall\, Yong Siew Toh Conservatory of Music\, 3 Conservatory Drive\, Singapore\, 117376\, Singapore
END:VEVENT
END:VCALENDAR