BEGIN:VCALENDAR
VERSION:2.0
PRODID:-//YST Conservatory - ECPv6.15.17//NONSGML v1.0//EN
CALSCALE:GREGORIAN
METHOD:PUBLISH
X-WR-CALNAME:YST Conservatory
X-ORIGINAL-URL:https://www.ystmusic.nus.edu.sg
X-WR-CALDESC:Events for YST Conservatory
REFRESH-INTERVAL;VALUE=DURATION:PT1H
X-Robots-Tag:noindex
X-PUBLISHED-TTL:PT1H
BEGIN:VTIMEZONE
TZID:Asia/Singapore
BEGIN:STANDARD
TZOFFSETFROM:+0800
TZOFFSETTO:+0800
TZNAME:+08
DTSTART:20250101T000000
END:STANDARD
END:VTIMEZONE
BEGIN:VEVENT
DTSTART;TZID=Asia/Singapore:20260429T190000
DTEND;TZID=Asia/Singapore:20260429T211000
DTSTAMP:20260421T064716
CREATED:20260420T011051Z
LAST-MODIFIED:20260420T011051Z
UID:44085-1777489200-1777497000@www.ystmusic.nus.edu.sg
SUMMARY:Masters Recital: Saxophone and Euphonium
DESCRIPTION:PROGRAMME \n7.00PM ANG YI XIANG (MMus) \nANG YI XIANG\, saxophoneGABRIEL HOE\, piano \nEUGENE BOZZAAria (for Solo Eb Alto Saxophone and Piano) \nPIERRE MAX DUBOISConcerto (for Eb Alto Saxophone and Piano)I.Lento expressive-allegro II.Sarabande: Lento nostalgico III.Rondo: Allegretto \n– 10 minute intermission – \nASTOR PIAZZOLATango Etude No. 3 \nDARIUS MILHAUDScaramouche (I.Vif II.Modere III.Brazileira) \nTSUTOMO NARITAWhite Field – a bird sings an epilogue \n  \n8.10PM KANG CHUN MENG (MMus) \nKANG CHUN MENG\, euphoniumBEATRICE LIN\, piano \nJOSEPH TURRINConcert Piece No.1 \nVLADIMIR COSMAEuphonium ConcertoI.Allgero assai II.Andantino III.Finale: Giocoso \n– 10 minute intermission – \nKENJI MIYAZAWA ARR. DAIKI KATOHoshi Meguri no Uta \nROLAND SZENTPALIPearls I.Ducati SPS 916 II.My One and Only Love III.Susi \nCAIT NISHIMURAHiraeth \nProgramme Notes \n  \n\n  \nABOUT THIS PROGRAMME \nAs part of their graduation requirements for music performance\, Masters YST Conservatory students present an hour long recital. \nSubscribe to YST’s mailing list. \nTICKETING INFORMATION \nFree Admission. \nOut of respect for the participants and other spectators\, no children under 6 years of age will be allowed admission. \n*All event information is correct at the time of print.
URL:https://www.ystmusic.nus.edu.sg/event/masters-recital-2526s2-saxophone-and-euphonium/
LOCATION:YST Concert Hall\, Yong Siew Toh Conservatory of Music\, 3 Conservatory Drive\, Singapore\, 117376\, Singapore
END:VEVENT
END:VCALENDAR