BEGIN:VCALENDAR
VERSION:2.0
PRODID:-//YST Conservatory - ECPv6.15.17//NONSGML v1.0//EN
CALSCALE:GREGORIAN
METHOD:PUBLISH
X-WR-CALNAME:YST Conservatory
X-ORIGINAL-URL:https://www.ystmusic.nus.edu.sg
X-WR-CALDESC:Events for YST Conservatory
REFRESH-INTERVAL;VALUE=DURATION:PT1H
X-Robots-Tag:noindex
X-PUBLISHED-TTL:PT1H
BEGIN:VTIMEZONE
TZID:Asia/Singapore
BEGIN:STANDARD
TZOFFSETFROM:+0800
TZOFFSETTO:+0800
TZNAME:+08
DTSTART:20250101T000000
END:STANDARD
END:VTIMEZONE
BEGIN:VEVENT
DTSTART;TZID=Asia/Singapore:20260429T174000
DTEND;TZID=Asia/Singapore:20260429T184000
DTSTAMP:20260420T180621
CREATED:20260420T011051Z
LAST-MODIFIED:20260420T011051Z
UID:44078-1777484400-1777488000@www.ystmusic.nus.edu.sg
SUMMARY:Masters Recital: Piano Session
DESCRIPTION:PROGRAMME \n5.40PM TANG KE (MMus) \nDOMENICO SCARLATTISonata in F minor\, K. 466 \nDOMENICO SCARLATTISonata in G minor\, K. 35 \nWOLFGANG AMADEUS MOZARTPiano Sonata No. 8 in A minor\, K. 310I. Allegro maestosoII. Andante cantabile con espressioneIII. Presto \nMAURICE RAVELDaphnis et Chloé Fragments SymphoniquesI. Danse de DaphnisII. Nocturne. Interlude. Danse GuerrièreIII. Scene de Daphnis et Chloé \n  \n\n  \nABOUT THIS PROGRAMME \nAs part of their graduation requirements for music performance\, Masters YST Conservatory students present an hour long recital. \nSubscribe to YST’s mailing list. \nTICKETING INFORMATION \nFree Admission. \nOut of respect for the participants and other spectators\, no children under 6 years of age will be allowed admission. \n*All event information is correct at the time of print.
URL:https://www.ystmusic.nus.edu.sg/event/masters-recital-2526s2-piano/
LOCATION:YST Concert Hall\, Yong Siew Toh Conservatory of Music\, 3 Conservatory Drive\, Singapore\, 117376\, Singapore
END:VEVENT
END:VCALENDAR