BEGIN:VCALENDAR
VERSION:2.0
PRODID:-//YST Conservatory - ECPv6.15.17//NONSGML v1.0//EN
CALSCALE:GREGORIAN
METHOD:PUBLISH
X-WR-CALNAME:YST Conservatory
X-ORIGINAL-URL:https://www.ystmusic.nus.edu.sg
X-WR-CALDESC:Events for YST Conservatory
REFRESH-INTERVAL;VALUE=DURATION:PT1H
X-Robots-Tag:noindex
X-PUBLISHED-TTL:PT1H
BEGIN:VTIMEZONE
TZID:Asia/Singapore
BEGIN:STANDARD
TZOFFSETFROM:+0800
TZOFFSETTO:+0800
TZNAME:+08
DTSTART:20190101T000000
END:STANDARD
END:VTIMEZONE
BEGIN:VEVENT
DTSTART;TZID=Asia/Singapore:20200316T150000
DTEND;TZID=Asia/Singapore:20200316T150000
DTSTAMP:20260422T151845
CREATED:20200102T091437Z
LAST-MODIFIED:20200214T065406Z
UID:8511-1584370800-1584370800@www.ystmusic.nus.edu.sg
SUMMARY:[CANCELLED] Visiting Artist Series: Mary Ann Hart Voice Masterclass
DESCRIPTION:In view of current health and travel advisories\, this event has been cancelled. We apologise for any inconvenience caused. \nFor more information on the status of YST events\, please visit: bit.ly/yst-updates \nPROGRAMMETo be announced.  \nABOUT THE ARTIST Mezzo-soprano Mary Ann Hart made her New York Philharmonic debut under the baton of Kurt Masur\, has appeared with numerous other American orchestras\, and has been a Guest Artist with the Chamber Music Society of Lincoln Center. Miss Hart has a solo CD of American songs\, and was one of four singers on recordings of the complete songs of Charles Ives on the Albany label. She appeared in the US tour of the Philip Glass opera Hydrogen Jukebox\, and recorded that work for Nonesuch. A champion of song literature\, she won First Prize in the Concert Artists Guild International Competition\, Second Prize in the Carnegie Hall International American Music Competition\, and was awarded a Solo Recitalist Grant by the National Endowment for the Arts. Recital appearances have taken her to 26 American states\, Austria\, Germany\, Romania\, Canada\, and the Virgin Islands. Previously on the faculties of Vassar College and the Mannes School of Music\, Miss Hart is now Professor of Voice at the Indiana University Jacobs School of Music where she teaches voice and song literature.  \nTICKETING INFORMATION • Free admission. • All event information is correct at time of print. • Out of respect for other concertgoers\, no children under 6 years of age will be allowed admission.
URL:https://www.ystmusic.nus.edu.sg/event/mary-ann-hart-voice-mc/
LOCATION:Conservatory Orchestra Hall\, Yong Siew Toh Conservatory of Music\, 3 Conservatory Drive\, Singapore\, 117376\, Singapore
ATTACH;FMTTYPE=image/jpeg:https://www.ystmusic.nus.edu.sg/wp-content/uploads/2020/01/mary-ann.jpg
END:VEVENT
END:VCALENDAR