BEGIN:VCALENDAR
VERSION:2.0
PRODID:-//YST Conservatory - ECPv6.15.17//NONSGML v1.0//EN
CALSCALE:GREGORIAN
METHOD:PUBLISH
X-WR-CALNAME:YST Conservatory
X-ORIGINAL-URL:https://www.ystmusic.nus.edu.sg
X-WR-CALDESC:Events for YST Conservatory
REFRESH-INTERVAL;VALUE=DURATION:PT1H
X-Robots-Tag:noindex
X-PUBLISHED-TTL:PT1H
BEGIN:VTIMEZONE
TZID:Asia/Singapore
BEGIN:STANDARD
TZOFFSETFROM:+0800
TZOFFSETTO:+0800
TZNAME:+08
DTSTART:20220101T000000
END:STANDARD
END:VTIMEZONE
BEGIN:VEVENT
DTSTART;TZID=Asia/Singapore:20231128T110000
DTEND;TZID=Asia/Singapore:20231128T121000
DTSTAMP:20260420T155055
CREATED:20231121T025444Z
LAST-MODIFIED:20231121T025444Z
UID:32037-1701169200-1701173400@www.ystmusic.nus.edu.sg
SUMMARY:Junior Recitals: Percussion
DESCRIPTION:11.00am ADAM SHARAWI BIN AMIN HUSSAINI (B.Mus3)\, percussion \nPROGRAMME \nEMMANUEL SEJOURNE Attraction (Short version) \nJOHN PSATHAS Buyan \nIVAN TREVINO Spur \nADAM SILVERMAN Nightmare Machine \nASKELL MASSON Prim \nProgramme notes \n\n11.40am JEREMY NG CHUAN KAI (B.Mus3)\, percussion SOH WEI QI\, piano \nPROGRAMME  \nJOE DUDDELL Ruby \nProgramme notes \n\nABOUT THIS EVENT \n As part of their graduation requirements for music performance\, 3rd year YST Conservatory students present a half-hour long recital. \nSubscribe to YST’s mailing list. \nTICKETING INFORMATION \nFree Admission. \nOut of respect for the participants and other spectators\, no children under 6 years of age will be allowed admission. \n*All event information is correct at the time of print.
URL:https://www.ystmusic.nus.edu.sg/event/junior-recitals-percussion/
LOCATION:Conservatory Concert Hall\, Yong Siew Toh Conservatory of Music\, 3 Conservatory Drive\, 117376\, Singapore
END:VEVENT
END:VCALENDAR