BEGIN:VCALENDAR
VERSION:2.0
PRODID:-//YST Conservatory - ECPv6.15.17//NONSGML v1.0//EN
CALSCALE:GREGORIAN
METHOD:PUBLISH
X-WR-CALNAME:YST Conservatory
X-ORIGINAL-URL:https://www.ystmusic.nus.edu.sg
X-WR-CALDESC:Events for YST Conservatory
REFRESH-INTERVAL;VALUE=DURATION:PT1H
X-Robots-Tag:noindex
X-PUBLISHED-TTL:PT1H
BEGIN:VTIMEZONE
TZID:Asia/Singapore
BEGIN:STANDARD
TZOFFSETFROM:+0800
TZOFFSETTO:+0800
TZNAME:+08
DTSTART:20190101T000000
END:STANDARD
END:VTIMEZONE
BEGIN:VEVENT
DTSTART;TZID=Asia/Singapore:20201126T160000
DTEND;TZID=Asia/Singapore:20201126T173000
DTSTAMP:20260419T150823
CREATED:20201103T041509Z
LAST-MODIFIED:20201121T084510Z
UID:12856-1606406400-1606411800@www.ystmusic.nus.edu.sg
SUMMARY:Junior Recital: Viola
DESCRIPTION:4pmCAO LAN (B.Mus3)\, violaLIU JIA\, piano \nPROGRAMME \nARNOLD BAXViola SonataI. Molto moderato – AllegroII. Allegro energico\, ma non troppo prestoIII. Molto lento \nBiography & Programme Notes \n\n4:30pmLIU CHI-YUN (B.Mus3)\, violaLIU JIA\, piano \nPROGRAMME \nJOHANNES BRAHMSViola Sonata No. 2 in E-flat Major\, Op. 120I. Allegro amabileII. Allegro appassionatoIII. Andante con moto \nBiography & Programme Notes \n\n5pmHUANG WANXINYI (B.Mus3)\, violaLIU JIA\, piano \nPROGRAMME \nARNOLD BAXViola SonataI. Molto moderato – AllegroII. Allegro energico\, ma non troppo prestoIII. Molto lento \nBiography & Programme Notes \n\nABOUT THIS EVENT \nAs part of their graduation requirements for music performance\, 3rd year YST Conservatory students each present a half-hour long recital. \nThis event will be livestreamed on the Conservatory’s YouTube channel. Follow and subscribe to be notified of upcoming streams. \nSubscribe to YST’s mailing list. \nTICKETING INFORMATION  \n• Due to COVID-19 related guidelines\, this performance will only be offered virtually. • All event information is correct at time of print.
URL:https://www.ystmusic.nus.edu.sg/event/junior-recital-viola-2/
LOCATION:Conservatory Concert Hall\, Yong Siew Toh Conservatory of Music\, 3 Conservatory Drive\, 117376\, Singapore
ATTACH;FMTTYPE=image/jpeg:https://www.ystmusic.nus.edu.sg/wp-content/uploads/2020/11/Viola.jpg
END:VEVENT
END:VCALENDAR