BEGIN:VCALENDAR
VERSION:2.0
PRODID:-//YST Conservatory - ECPv6.15.17//NONSGML v1.0//EN
CALSCALE:GREGORIAN
METHOD:PUBLISH
X-WR-CALNAME:YST Conservatory
X-ORIGINAL-URL:https://www.ystmusic.nus.edu.sg
X-WR-CALDESC:Events for YST Conservatory
REFRESH-INTERVAL;VALUE=DURATION:PT1H
X-Robots-Tag:noindex
X-PUBLISHED-TTL:PT1H
BEGIN:VTIMEZONE
TZID:Asia/Singapore
BEGIN:STANDARD
TZOFFSETFROM:+0800
TZOFFSETTO:+0800
TZNAME:+08
DTSTART:20190101T000000
END:STANDARD
END:VTIMEZONE
BEGIN:VEVENT
DTSTART;TZID=Asia/Singapore:20201124T190000
DTEND;TZID=Asia/Singapore:20201124T200000
DTSTAMP:20260416T153544
CREATED:20201103T035518Z
LAST-MODIFIED:20201108T164939Z
UID:12848-1606244400-1606248000@www.ystmusic.nus.edu.sg
SUMMARY:Junior Recital: Tuba and Trombone
DESCRIPTION:7pmTAN SHUN ZHONG (B.Mus3)\, tubaRACHEL CHEN\, pianoVIVIEN CHONG\, piano \nPROGRAMME \nVAUGHAN WILLIAMSSix Studies in English Folk-SongI. AdagioII. Andante sostenutoIII. LarghettoIV. LentoV. Andante tranquilloVI. Allegro vivace \nPAUL HINDEMITHSonata for Tuba and PianoI. Allegro pesanteII. Allegro assaiIII. Variations \nROBERT SCHUMANNAdagio and Allegro\, Op. 70 \nBiography & Programme Notes \n\n7:30pmLIM WEN JIE (B.Mus3)\, tromboneSHIN TANAKA (B.Mus1)\, bass tromboneSTEFAN BENCIC (B.Mus2)\, tenor tromboneOLEKSII UBOZHENKO (B.Mus3)\, tenor tromboneRACHEL CHEN\, piano \nPROGRAMME \nFRANCIS POULENCFour Little Prayers of St. Francis of Assisi \nJOHANN ERNST GALLIARDSonata No. 1 \nSTJEPAN ŠULEKSonata (Vox Gabrieli) \nBiography & Programme Notes \n\nABOUT THIS EVENT \nAs part of their graduation requirements for music performance\, 3rd year YST Conservatory students each present a half-hour long recital. \nThis event will be livestreamed on the Conservatory’s YouTube channel. Follow and subscribe to be notified of upcoming streams. \nSubscribe to YST’s mailing list. \nTICKETING INFORMATION  \n• Due to COVID-19 related guidelines\, this performance will only be offered virtually. • All event information is correct at time of print.
URL:https://www.ystmusic.nus.edu.sg/event/junior-recital-tuba-and-trombone/
LOCATION:Conservatory Concert Hall\, Yong Siew Toh Conservatory of Music\, 3 Conservatory Drive\, 117376\, Singapore
ATTACH;FMTTYPE=image/jpeg:https://www.ystmusic.nus.edu.sg/wp-content/uploads/2020/11/Shun-Zhong.jpg
END:VEVENT
END:VCALENDAR