BEGIN:VCALENDAR
VERSION:2.0
PRODID:-//YST Conservatory - ECPv6.15.17//NONSGML v1.0//EN
CALSCALE:GREGORIAN
METHOD:PUBLISH
X-WR-CALNAME:YST Conservatory
X-ORIGINAL-URL:https://www.ystmusic.nus.edu.sg
X-WR-CALDESC:Events for YST Conservatory
REFRESH-INTERVAL;VALUE=DURATION:PT1H
X-Robots-Tag:noindex
X-PUBLISHED-TTL:PT1H
BEGIN:VTIMEZONE
TZID:Asia/Singapore
BEGIN:STANDARD
TZOFFSETFROM:+0800
TZOFFSETTO:+0800
TZNAME:+08
DTSTART:20230101T000000
END:STANDARD
END:VTIMEZONE
BEGIN:VEVENT
DTSTART;TZID=Asia/Singapore:20241123T100000
DTEND;TZID=Asia/Singapore:20241123T231000
DTSTAMP:20260424T054322
CREATED:20241116T071403Z
LAST-MODIFIED:20241117T064016Z
UID:36809-1732356000-1732403400@www.ystmusic.nus.edu.sg
SUMMARY:JUNIOR RECITAL: Horn Session
DESCRIPTION:10am \nGAO XIAOXUAN (B.Mus3)\, horn NICHOLAS LOH\, piano \nPROGRAMME \nREINHOLD MORITZEVICH GLIÈRE Concerto for Horn and Orchestra in Bb major\, Op. 91 I. AllegroII. AndanteIII. Moderato – Allegro vivace \nProgramme Notes \n\n10:40am \nYEN SHIH-HSIN (B.Mus3)\, horn NICHOLAS LOH\, piano \nPROGRAMME \nFRANZ STRAUSS Nocturno\, Op. 7 \nCARL MARIA VON WEBER Concertino for Horn and Orchestra in E minor\, Op. 45\, J. 188 \nProgramme Notes \n\nABOUT THIS EVENT \nAs part of their graduation requirements for music performance\, 3rd year YST Conservatory students present a half-hour long recital. \nTICKETING INFORMATION \nAdmission is free and on a first-come\, first-served basis. Out of respect for the participants and other spectators\, no children under 6 years of age will be allowed admission. \nSubscribe to YST’s mailing list here.
URL:https://www.ystmusic.nus.edu.sg/event/junior-recital-horn-session/
LOCATION:YST Concert Hall\, Yong Siew Toh Conservatory of Music\, 3 Conservatory Drive\, Singapore\, 117376\, Singapore
END:VEVENT
END:VCALENDAR