BEGIN:VCALENDAR
VERSION:2.0
PRODID:-//YST Conservatory - ECPv6.15.17//NONSGML v1.0//EN
CALSCALE:GREGORIAN
METHOD:PUBLISH
X-WR-CALNAME:YST Conservatory
X-ORIGINAL-URL:https://www.ystmusic.nus.edu.sg
X-WR-CALDESC:Events for YST Conservatory
REFRESH-INTERVAL;VALUE=DURATION:PT1H
X-Robots-Tag:noindex
X-PUBLISHED-TTL:PT1H
BEGIN:VTIMEZONE
TZID:Asia/Singapore
BEGIN:STANDARD
TZOFFSETFROM:+0800
TZOFFSETTO:+0800
TZNAME:+08
DTSTART:20250101T000000
END:STANDARD
END:VTIMEZONE
BEGIN:VEVENT
DTSTART;TZID=Asia/Singapore:20260430T140000
DTEND;TZID=Asia/Singapore:20260430T143000
DTSTAMP:20260423T020510
CREATED:20260420T011050Z
LAST-MODIFIED:20260420T011050Z
UID:44090-1777557600-1777559400@www.ystmusic.nus.edu.sg
SUMMARY:Junior Recital: Violin Session
DESCRIPTION:PROGRAMME \n2.00PM ZHANG HANZHI (Bmus3) \nMax BruchViolin Concerto no.1 in G minor\, Op.26I. Vorspiel. Allegro moderatoII. AdagioIII. Finale. Allegro energico \nZHANG HANZHI\, violinCHERIE KHOR\, piano. \nProgramme Notes \n\n  \nABOUT THIS PROGRAMME \nAs part of their graduation requirements for music performance\, 3rd year YST Conservatory students present a half-hour long recital. \nSubscribe to YST’s mailing list. \nTICKETING INFORMATION \nFree Admission. \nOut of respect for the participants and other spectators\, no children under 6 years of age will be allowed admission. \n*All event information is correct at the time of print.
URL:https://www.ystmusic.nus.edu.sg/event/junior-recital-2526s2-violin/
LOCATION:YST Concert Hall\, Yong Siew Toh Conservatory of Music\, 3 Conservatory Drive\, Singapore\, 117376\, Singapore
END:VEVENT
END:VCALENDAR