BEGIN:VCALENDAR
VERSION:2.0
PRODID:-//YST Conservatory - ECPv6.15.17//NONSGML v1.0//EN
CALSCALE:GREGORIAN
METHOD:PUBLISH
X-WR-CALNAME:YST Conservatory
X-ORIGINAL-URL:https://www.ystmusic.nus.edu.sg
X-WR-CALDESC:Events for YST Conservatory
REFRESH-INTERVAL;VALUE=DURATION:PT1H
X-Robots-Tag:noindex
X-PUBLISHED-TTL:PT1H
BEGIN:VTIMEZONE
TZID:Asia/Singapore
BEGIN:STANDARD
TZOFFSETFROM:+0800
TZOFFSETTO:+0800
TZNAME:+08
DTSTART:20250101T000000
END:STANDARD
END:VTIMEZONE
BEGIN:VEVENT
DTSTART;TZID=Asia/Singapore:20260427T130000
DTEND;TZID=Asia/Singapore:20260427T141000
DTSTAMP:20260420T143056
CREATED:20260420T011122Z
LAST-MODIFIED:20260420T011122Z
UID:44050-1777294800-1777299000@www.ystmusic.nus.edu.sg
SUMMARY:Junior Recital: Percussion Session
DESCRIPTION:PROGRAMME \n1.00PM KUO YAN-SHIN (BMus3) \nBRIAN BLUMERooted \nEMIL KUYUMCUYANAzure \nJOHN PSATHASBuyan \nProgramme Notes \n  \n1.40PM ISABEL CHIN CHUN EN (BMus3) \nMICHIO KITAZUMESide by Side \nJACOB DRUCKMANReflections on the Nature of Water (I.Crystalline II.Fleet V.Profound) \nGENE KOSHINSKISwerve \nProgramme Notes \n\n  \nABOUT THIS PROGRAMME \nAs part of their graduation requirements for music performance\, 3rd year YST Conservatory students present a half-hour long recital. \nSubscribe to YST’s mailing list. \nTICKETING INFORMATION \nFree Admission. \nOut of respect for the participants and other spectators\, no children under 6 years of age will be allowed admission. \n*All event information is correct at the time of print.
URL:https://www.ystmusic.nus.edu.sg/event/junior-recital-2526s2-percussion/
LOCATION:YST Concert Hall\, Yong Siew Toh Conservatory of Music\, 3 Conservatory Drive\, Singapore\, 117376\, Singapore
END:VEVENT
END:VCALENDAR