BEGIN:VCALENDAR
VERSION:2.0
PRODID:-//YST Conservatory - ECPv6.15.17//NONSGML v1.0//EN
CALSCALE:GREGORIAN
METHOD:PUBLISH
X-WR-CALNAME:YST Conservatory
X-ORIGINAL-URL:https://www.ystmusic.nus.edu.sg
X-WR-CALDESC:Events for YST Conservatory
REFRESH-INTERVAL;VALUE=DURATION:PT1H
X-Robots-Tag:noindex
X-PUBLISHED-TTL:PT1H
BEGIN:VTIMEZONE
TZID:Asia/Singapore
BEGIN:STANDARD
TZOFFSETFROM:+0800
TZOFFSETTO:+0800
TZNAME:+08
DTSTART:20250101T000000
END:STANDARD
END:VTIMEZONE
BEGIN:VEVENT
DTSTART;TZID=Asia/Singapore:20260425T093000
DTEND;TZID=Asia/Singapore:20260425T100000
DTSTAMP:20260420T143734
CREATED:20260420T011126Z
LAST-MODIFIED:20260420T030203Z
UID:44003-1777109400-1777111200@www.ystmusic.nus.edu.sg
SUMMARY:Junior Recital: Cello Session
DESCRIPTION:PROGRAMME \n9:30am \n\n\n\nLIU YIDUO (BMus3)\, celloLIU JIA\, piano \nFELIX MENDELSSOHNCello Sonata No.2 in D major\, Op. 58 \nI. Allegro assai vivaceII. Allegretto scherzandoIII. AdagioIV. Molto allegro vivace \nProgramme Notes \n\n  \nABOUT THIS PROGRAMME \nAs part of their graduation requirements for music performance\, 3rd year YST Conservatory students present a half-hour long recital. \nSubscribe to YST’s mailing list. \nTICKETING INFORMATION \nFree Admission. \nOut of respect for the participants and other spectators\, no children under 6 years of age will be allowed admission. \n*All event information is correct at the time of print.
URL:https://www.ystmusic.nus.edu.sg/event/junior-recital-2526s2-cello/
LOCATION:YST Concert Hall\, Yong Siew Toh Conservatory of Music\, 3 Conservatory Drive\, Singapore\, 117376\, Singapore
END:VEVENT
END:VCALENDAR