BEGIN:VCALENDAR
VERSION:2.0
PRODID:-//YST Conservatory - ECPv6.15.17//NONSGML v1.0//EN
CALSCALE:GREGORIAN
METHOD:PUBLISH
X-WR-CALNAME:YST Conservatory
X-ORIGINAL-URL:https://www.ystmusic.nus.edu.sg
X-WR-CALDESC:Events for YST Conservatory
REFRESH-INTERVAL;VALUE=DURATION:PT1H
X-Robots-Tag:noindex
X-PUBLISHED-TTL:PT1H
BEGIN:VTIMEZONE
TZID:Asia/Singapore
BEGIN:STANDARD
TZOFFSETFROM:+0800
TZOFFSETTO:+0800
TZNAME:+08
DTSTART:20190101T000000
END:STANDARD
END:VTIMEZONE
BEGIN:VEVENT
DTSTART;TZID=Asia/Singapore:20200302T160000
DTEND;TZID=Asia/Singapore:20200302T160000
DTSTAMP:20260417T074628
CREATED:20200102T091419Z
LAST-MODIFIED:20200302T024004Z
UID:8491-1583164800-1583164800@www.ystmusic.nus.edu.sg
SUMMARY:[LIMITED SEATS] Junior Recital: See Rui Yang (Flute)
DESCRIPTION:In view of current health and travel advisories\, limited seats will be available for this event.  \nLimited seats events are open to YST and members of the public\, up to a total cap of 50 pax. Admission will be first-come\, first-served based on registration at the door. Temperature-taking and visitor registration will be required on arrival at the YST building. \nFor more information on the status of YST events\, please visit: bit.ly/yst-updates \nPROGRAMME \nCPE BACHFlute Sonata in A minor\nI. Poco Adagio\nII. Allegro\nIII. Allegro\n \nLIEBERMANNFlute Concerto\, Op. 39\nI. Moderato \nII. Molto Adagio\nIII. Presto\nABOUT THIS EVENTAs part of his graduation requirements for music performance\, 3rd year YST Conservatory student flutist See Rui Yang presents a half-hour long recital. \nDownload Programme Notes \nTICKETING INFORMATION • Free admission. • All event information is correct at time of print. • Out of respect for other concertgoers\, no children under 6 years of age will be allowed admission.
URL:https://www.ystmusic.nus.edu.sg/event/jr-see-rui-yang-flute/
LOCATION:Conservatory Concert Hall\, Yong Siew Toh Conservatory of Music\, 3 Conservatory Drive\, 117376\, Singapore
ATTACH;FMTTYPE=image/jpeg:https://www.ystmusic.nus.edu.sg/wp-content/uploads/2020/01/rui-yang-1.jpg
END:VEVENT
END:VCALENDAR