BEGIN:VCALENDAR
VERSION:2.0
PRODID:-//YST Conservatory - ECPv6.15.17//NONSGML v1.0//EN
CALSCALE:GREGORIAN
METHOD:PUBLISH
X-WR-CALNAME:YST Conservatory
X-ORIGINAL-URL:https://www.ystmusic.nus.edu.sg
X-WR-CALDESC:Events for YST Conservatory
REFRESH-INTERVAL;VALUE=DURATION:PT1H
X-Robots-Tag:noindex
X-PUBLISHED-TTL:PT1H
BEGIN:VTIMEZONE
TZID:Asia/Singapore
BEGIN:STANDARD
TZOFFSETFROM:+0800
TZOFFSETTO:+0800
TZNAME:+08
DTSTART:20240101T000000
END:STANDARD
END:VTIMEZONE
BEGIN:VEVENT
DTSTART;TZID=Asia/Singapore:20251208T193000
DTEND;TZID=Asia/Singapore:20251208T210000
DTSTAMP:20260416T055633
CREATED:20251113T033226Z
LAST-MODIFIED:20251126T030801Z
UID:41060-1765222200-1765227600@www.ystmusic.nus.edu.sg
SUMMARY:Healing Arts Singapore Opening Concert
DESCRIPTION:Join us for the Opening Concert of Healing Arts Singapore—the first country-level Healing Arts activation in Asia. The Opening Concert celebrates the transformative power of music through an inspiring evening of performances\, featuring Chen Zhangyi’s LILY\, the YST Orchestral Institute\, pianist Azariah Tan\, Arts Fission\, Beautiful Minds and The TENG Ensemble. Blending classical masterpieces with contemporary creations\, the programme takes you on a musical journey through themes of resilience and renewal—uniting musicians\, dancers\, and audiences in a shared experience of art as healing. \nHealing Arts Singapore is co-led by the National University of Singapore’s (NUS) Centre for Music and Health at the Yong Siew Toh Conservatory of Music; the University of the Arts Singapore’s (UAS) Nanyang Academy of Fine Arts; and the Jameel Arts & Health lab in collaboration with the World Health Organization. \nFind out more at https://www.healingartssingapore.org/ \n  \nPROGRAMME \nCHEN ZHANGYILILYI. Prelude\nExcerpts from Scene 2X. A New Song (Dialogue)XI. Song of Eurydice – I’ll Follow Your Voice (Duet)\nXII. Do You Remember Me? (Recitative/Arioso)\nWONG SU SUN as SINGER/LILY\, sopranoJONATHAN CHARLES TAY as SON\, tenor \nLUDWIG VAN BEETHOVENPiano Concerto No. 5 (“Emperor”)I. Allegro \nAZARIAH TAN\, pianoYST ORCHESTRAL INSTITUTEwithJASON LAI\, conductor \n– Intermission – \nSeeding the Floor – performing mindfulness of everyday \nARTS FISSION \nA Medley of Classical Tunes \nMUSICIANS FROM BEAUTIFUL MIND CHARITY AND YSTNG EE-JUN\, violinLUO MANG\, violinWU ZUHUI\, celloROYCE TAN KAY WOON\, celloSIMEON YAP SHENG KIAT\, fluteANGEL LAWRENCE GABRIEL VILLAR\, fluteDOMINIC KOH\, clarinetQUAH RENAA\, clarinetKANG JI YEON\, piano \nCHOW JUN YIJourneyPHOON YUA Transi for the Common ManCHOW JUN YIThe Little White Boat \nTHE TENG ENSEMBLEYST ORCHESTRAL INSTITUTE \n  \nTICKETING INFORMATION \nTickets at $26 via yst.eventbrite.com. \nOut of respect for other event-goers\, late admission will only be allowed at suitable intervals. Food and drinks are not allowed inside the venue. Patrons with access needs may write in to muscomms@nus.edu.sg to book accessible seats. \nNo refunds\, exchanges\, or cancellations will be accepted for inability to attend\, change of plans\, or failure to show up on the day of the event/session. \nBe the first to hear about our upcoming events! Join our mailing list here.
URL:https://www.ystmusic.nus.edu.sg/event/healing-arts-singapore-opening-concert/
LOCATION:YST Concert Hall\, Yong Siew Toh Conservatory of Music\, 3 Conservatory Drive\, Singapore\, 117376\, Singapore
ATTACH;FMTTYPE=image/jpeg:https://www.ystmusic.nus.edu.sg/wp-content/uploads/2025/11/HASG-EVENTBRITE-BANNER-scaled.jpeg
END:VEVENT
END:VCALENDAR