BEGIN:VCALENDAR
VERSION:2.0
PRODID:-//YST Conservatory - ECPv6.15.17//NONSGML v1.0//EN
CALSCALE:GREGORIAN
METHOD:PUBLISH
X-WR-CALNAME:YST Conservatory
X-ORIGINAL-URL:https://www.ystmusic.nus.edu.sg
X-WR-CALDESC:Events for YST Conservatory
REFRESH-INTERVAL;VALUE=DURATION:PT1H
X-Robots-Tag:noindex
X-PUBLISHED-TTL:PT1H
BEGIN:VTIMEZONE
TZID:Asia/Singapore
BEGIN:STANDARD
TZOFFSETFROM:+0800
TZOFFSETTO:+0800
TZNAME:+08
DTSTART:20190101T000000
END:STANDARD
END:VTIMEZONE
BEGIN:VEVENT
DTSTART;TZID=Asia/Singapore:20200317T160000
DTEND;TZID=Asia/Singapore:20200317T160000
DTSTAMP:20260424T095938
CREATED:20200102T091437Z
LAST-MODIFIED:20200213T062314Z
UID:8512-1584460800-1584460800@www.ystmusic.nus.edu.sg
SUMMARY:[CANCELLED] Visiting Artist Series: Richard Harwood Cello Masterclass
DESCRIPTION:In view of current health and travel advisories\, this event has been cancelled. We apologise for any inconvenience caused. \nFor more information on the status of YST events\, please visit: bit.ly/yst-updates \nPROGRAMMETo be announced.  \nABOUT THIS EVENTRichard Harwood presents a cello masterclass with students of the Conservatory. \nABOUT THE ARTISTSince his concerto debut at the age of ten\, the award-winning English cellist Richard Harwood has performed concerti and chamber music in major venues including London’s Royal Albert Hall\, Southbank Centre\, Wigmore Hall\, Musikverein (Vienna)\, Concertgebouw (Amsterdam)\, Alte Oper (Frankfurt)\, Thomaskirche (Leipzig)\, Auditorium du Louvre (Paris) and Alice Tully Hall / Lincoln Center (New York). As concerto soloist\, Richard has worked with conductors such as Mark Wigglesworth\, Case Scaglione\, Stanislav Kochanovsky\, Michele Mariotti\, John Wilson\, Okko Kamu\, Marko Letonja\, Douglas Bostock\, En Shao\, Shuntaro Sato and Yehudi Menuhin\, and with numerous orchestras including The Philharmonia\, Royal Philharmonic\, Bournemouth Symphony\, RTÉ National Symphony\, RTÉ Concert\, Auckland Philharmonia and the Ural Philharmonic. As chamber musician\, he has collaborated with the Jerusalem and Endellion Quartets\, Gidon Kremer\, Yuri Bashmet\, Olivier Charlier\, Guy Braunstein\, Benjamin Schmid\, Alena Baeva\, Ilya Gringolts\, Pekka Kuusisto\, Vilde Frang\, Chen Halevi\, Julian Bliss\, Martin Roscoe\, Peter Donohoe\, Gottlieb Wallisch and Julius Drake\, among others. Learn more about Richard Harwood here.  \nTICKETING INFORMATION • Free admission. • All event information is correct at time of print. • Out of respect for other concertgoers\, no children under 6 years of age will be allowed admission. \nPhoto credit: Martin Apps
URL:https://www.ystmusic.nus.edu.sg/event/harwood-cello-mc/
LOCATION:Conservatory Orchestra Hall\, Yong Siew Toh Conservatory of Music\, 3 Conservatory Drive\, Singapore\, 117376\, Singapore
ATTACH;FMTTYPE=image/jpeg:https://www.ystmusic.nus.edu.sg/wp-content/uploads/2020/01/richard-harwood.jpg
END:VEVENT
END:VCALENDAR