BEGIN:VCALENDAR
VERSION:2.0
PRODID:-//YST Conservatory - ECPv6.15.17//NONSGML v1.0//EN
CALSCALE:GREGORIAN
METHOD:PUBLISH
X-WR-CALNAME:YST Conservatory
X-ORIGINAL-URL:https://www.ystmusic.nus.edu.sg
X-WR-CALDESC:Events for YST Conservatory
REFRESH-INTERVAL;VALUE=DURATION:PT1H
X-Robots-Tag:noindex
X-PUBLISHED-TTL:PT1H
BEGIN:VTIMEZONE
TZID:Asia/Singapore
BEGIN:STANDARD
TZOFFSETFROM:+0800
TZOFFSETTO:+0800
TZNAME:+08
DTSTART:20240101T000000
END:STANDARD
END:VTIMEZONE
BEGIN:VEVENT
DTSTART;TZID=Asia/Singapore:20250312T193000
DTEND;TZID=Asia/Singapore:20250312T213000
DTSTAMP:20260416T013820
CREATED:20250110T042011Z
LAST-MODIFIED:20250305T074432Z
UID:37277-1741807800-1741815000@www.ystmusic.nus.edu.sg
SUMMARY:Eliso Virsaladze Chamber Masterclass [CLOSED TO PUBLIC]
DESCRIPTION:This event will be closed to public due to heightened security in the area for a state event. Thank you for your understanding. \nDistinguished pianist and educator Eliso Virsaladze conducts a chamber music masterclass\, working with YST students to refine their performance. Ms Virsaladze’s visit is supported by the Ong Teng Cheong Professorship in Music. Don’t miss her other events at YST: \nEliso Virsaladze & Friends Chamber Recital13 March (Thu)\, 7:30pm | Concert Hall | $26 \nEliso Virsaladze Piano Masterclass10 March (Mon) 7.30pm | Orchestra Hall | Free \n  \nPROGRAMME \nCLARA SCHUMANNPiano Trio in G minor\, Op. 17I. Allegro moderato \nTSAO WEI-CHUN\, violinLIU YOU-YU\, celloCHAI ZI QING\, piano \nROBERT SCHUMANNPiano Quartet in E-flat major\, Op. 47III. Andante cantabile \nLI HAO\, violinPAO YU-LIN\, violaLIU YOU-YU\, celloCHAKRIT KHANONVEJ\, piano \nMAURICE RAVELPiano Trio in A MinorI. Modéré \nCHIEN HSIN\, violinCHEN PEI-YI\, celloXIE LINGFEI\, piano \n  \nTICKETING INFORMATION \nThis event is closed to public. \nBe the first to hear about our upcoming events! Join our mailing list here.
URL:https://www.ystmusic.nus.edu.sg/event/eliso-virsaladze-chamber-masterclass/
LOCATION:Conservatory Orchestra Hall\, Yong Siew Toh Conservatory of Music\, 3 Conservatory Drive\, Singapore\, 117376\, Singapore
ATTACH;FMTTYPE=image/jpeg:https://www.ystmusic.nus.edu.sg/wp-content/uploads/2024/12/Web_Eliso-Virsaladze-scaled.jpg
END:VEVENT
END:VCALENDAR