BEGIN:VCALENDAR
VERSION:2.0
PRODID:-//YST Conservatory - ECPv6.15.17//NONSGML v1.0//EN
CALSCALE:GREGORIAN
METHOD:PUBLISH
X-WR-CALNAME:YST Conservatory
X-ORIGINAL-URL:https://www.ystmusic.nus.edu.sg
X-WR-CALDESC:Events for YST Conservatory
REFRESH-INTERVAL;VALUE=DURATION:PT1H
X-Robots-Tag:noindex
X-PUBLISHED-TTL:PT1H
BEGIN:VTIMEZONE
TZID:Asia/Singapore
BEGIN:STANDARD
TZOFFSETFROM:+0800
TZOFFSETTO:+0800
TZNAME:+08
DTSTART:20190101T000000
END:STANDARD
END:VTIMEZONE
BEGIN:VEVENT
DTSTART;TZID=Asia/Singapore:20200330T193000
DTEND;TZID=Asia/Singapore:20200330T193000
DTSTAMP:20260421T232535
CREATED:20200102T091449Z
LAST-MODIFIED:20200325T092543Z
UID:8532-1585596600-1585596600@www.ystmusic.nus.edu.sg
SUMMARY:[INTERNAL CLASS] YST Electone Orchestra
DESCRIPTION:In view of current health and travel advisories\, this event will no longer be open to the general public. \nInternal Classes will only be open to YST students as an ongoing class. \nFor more information on the status of YST events\, please visit: bit.ly/yst-updates \nBARBERAdagio for Strings \nBRITTENSimple Symphony \nI. Boisterous BourréeII. Playful PizzicatoIII. Sentimental SarabandeIV. Frolicsome Finale \n-Intermission- \nBEETHOVENSymphony No. 1 \nI. Adagio molto – Allegro con brioII. Andante cantabile con motoIII. Menuetto: Allegro molto e vivaceIV. Adagio – Allegro molto e vivace \nABOUT THIS EVENT Conservatory pianists join forces once again as the YST Electone Orchestra to present a charming and unique collection of “B” composers and their early works. The programme begins with the haunting Adagio for Strings by Samuel Barber and continues with Britten’s Simple Symphony\, written just two years earlier and drawing material from the works Britten composed at the tender ages of nine and twelve. The ensemble concludes the evening with Beethoven’s youthful Symphony No. 1\, a longtime favourite with concert audiences.  \nTICKETING INFORMATION • Free admission. • All event information is correct at time of print. • Out of respect for other concertgoers\, no children under 6 years of age will be allowed admission.
URL:https://www.ystmusic.nus.edu.sg/event/electone-orchestra-2020/
LOCATION:Conservatory Concert Hall\, Yong Siew Toh Conservatory of Music\, 3 Conservatory Drive\, 117376\, Singapore
ATTACH;FMTTYPE=image/jpeg:https://www.ystmusic.nus.edu.sg/wp-content/uploads/2020/01/electone.jpg
END:VEVENT
END:VCALENDAR