BEGIN:VCALENDAR
VERSION:2.0
PRODID:-//YST Conservatory - ECPv6.15.17//NONSGML v1.0//EN
CALSCALE:GREGORIAN
METHOD:PUBLISH
X-WR-CALNAME:YST Conservatory
X-ORIGINAL-URL:https://www.ystmusic.nus.edu.sg
X-WR-CALDESC:Events for YST Conservatory
REFRESH-INTERVAL;VALUE=DURATION:PT1H
X-Robots-Tag:noindex
X-PUBLISHED-TTL:PT1H
BEGIN:VTIMEZONE
TZID:Asia/Singapore
BEGIN:STANDARD
TZOFFSETFROM:+0800
TZOFFSETTO:+0800
TZNAME:+08
DTSTART:20190101T000000
END:STANDARD
END:VTIMEZONE
BEGIN:VEVENT
DTSTART;TZID=Asia/Singapore:20200205T160000
DTEND;TZID=Asia/Singapore:20200205T180000
DTSTAMP:20260419T114047
CREATED:20200102T091416Z
LAST-MODIFIED:20200204T071819Z
UID:8473-1580918400-1580925600@www.ystmusic.nus.edu.sg
SUMMARY:Visiting Artist Series: Darrin Milling Lower Brass Masterclass
DESCRIPTION:PROGRAMME CRESPOSpiritual Waltz  \nBrass Quintet  \nTCHAIKOVSKYExcerpts from Symphony No. 4 \nLow Brass Section  \nLEBEDEVConcerto\, Mov. I \nPAWIN PUNGBUA\, Bass Trombone  \nBACHSarabande in C Minor  \nOrchestra Excerpts for Bass Trombone: \nHAYDNThe Creation  \nWAGNERThe Ride of the Valkyries \nKODALYHarry Janos Suite  \nSTRAUSSEin Heldenleben \nGU HONGYI\, Bass Trombone  \nABOUT THIS EVENT Darrin Milling presents a low brass masterclass with students of the Conservatory. \nABOUT THE ARTIST Bass trombone principal of São Paulo State Symphony Orchestra (Brazil) since 1998\, Darrin Coleman Milling was born in Baltimore\, Maryland – USA\, is an artist-clinician of the Edwards Instrument Company and a graduate of The Curtis Institute of Music. In addition to many performances with The Philadelphia Orchestra\, he has also performed with Jerusalem Symphony Orchestra (Israel)\, Baltimore Symphony\, Tenerife Symphony (Spain)\, San Francisco Symphony and National Orchestra of Ecuador. Milling is a graduate of Baltimore School for the Arts\, earned his Bachelor´s Degree from The Curtis Institute of Music and did post-graduate studies at Temple University’s Esther Boyer College of Music. As an instructor\, he served on the faculty of Wilkes-Barre University’s School of Music and has presented masterclasses at Tanglewood Music Center\, Conservatório de Tatuí (State of São Paulo\, Brazil)\, Peabody Conservatory\, Eastman School of Music\, Indiana University Jacobs School of Music\, New England Conservatory and Mannes School of Music. In 2014\, Darrin received the ‘Cultural Merit Award’ and distinguished title of ‘Comendador’ from The Carlos Gomes Brazilian Society of Arts\, Culture and Education. \nSupported by: \n \n  \nTICKETING INFORMATION  \n• Free admission.  • All event information is correct at time of print.  • Out of respect for other concertgoers\, no children under 6 years of age will be allowed admission.
URL:https://www.ystmusic.nus.edu.sg/event/darrin-milling-low-brass-mc/
LOCATION:Conservatory Orchestra Hall\, Yong Siew Toh Conservatory of Music\, 3 Conservatory Drive\, Singapore\, 117376\, Singapore
ATTACH;FMTTYPE=image/jpeg:https://www.ystmusic.nus.edu.sg/wp-content/uploads/2020/01/darren-trombone.jpg
END:VEVENT
END:VCALENDAR