BEGIN:VCALENDAR
VERSION:2.0
PRODID:-//YST Conservatory - ECPv6.15.17//NONSGML v1.0//EN
CALSCALE:GREGORIAN
METHOD:PUBLISH
X-WR-CALNAME:YST Conservatory
X-ORIGINAL-URL:https://www.ystmusic.nus.edu.sg
X-WR-CALDESC:Events for YST Conservatory
REFRESH-INTERVAL;VALUE=DURATION:PT1H
X-Robots-Tag:noindex
X-PUBLISHED-TTL:PT1H
BEGIN:VTIMEZONE
TZID:Asia/Singapore
BEGIN:STANDARD
TZOFFSETFROM:+0800
TZOFFSETTO:+0800
TZNAME:+08
DTSTART:20180101T000000
END:STANDARD
END:VTIMEZONE
BEGIN:VEVENT
DTSTART;TZID=Asia/Singapore:20191112T193000
DTEND;TZID=Asia/Singapore:20191112T193000
DTSTAMP:20260419T125629
CREATED:20191014T070332Z
LAST-MODIFIED:20191122T011553Z
UID:5802-1573587000-1573587000@www.ystmusic.nus.edu.sg
SUMMARY:Curtis On Tour
DESCRIPTION:The Nina von Maltzahn Global Touring Initiative of the Curtis Institute of Music\n\n\n			\n				\n			\n				\n				DAMI KIM\, violin\n				\n			\n				\n			\n				\n				ROBERTO DIAZ\, viola\n				\n			\n				\n			\n				\n				CHRISTINE J. LEE\, cello\n				\n			\n				\n			\n				\n				njnjnjn\n				\n			\n				\n			\n				\n				KYU YEON KIM\, piano\n				\n		\n\n\nPROGRAMME\nMOZARTFlute Quartet in D major\, K285I. AllegroII. AdagioIII. Rondeau: Allegretto \nH. VILLA-LOBOSAssobio a jato (The Jet Whistle)I. Allegro non troppoII. AdagioIII. Vivo \nSCHOENFIELDFour SouvenirsI. SambaII. TangoIII. Tin Pan AlleyIV. Square Dance \n– Intermission – \nBRAHMSPiano Quartet No. 1 in G minor\, Op. 25I. AllegroII. Intermezzo: Allegro ma non troppoIII. Andante con motoIV. Rondo alla Zingarese: Presto \nABOUT THIS EVENT\nFaculty members of the Curtis Institute of Music present a wonderful chamber music programme as part of their Asian tour. \n\n\n\n\n\n\nProgramme Notes\n\n\n\n\n\n\nAbout the Curtis Institute of Music\n\n\n\n\n\n\nTICKETING INFORMATION \n• Free admission.• All event information is correct at time of print• Out of respect for other concert goers\, no children under 6 years of age will be allowed admission.
URL:https://www.ystmusic.nus.edu.sg/event/curtis-on-tour/
LOCATION:Conservatory Concert Hall\, Yong Siew Toh Conservatory of Music\, 3 Conservatory Drive\, 117376\, Singapore
ATTACH;FMTTYPE=image/jpeg:https://www.ystmusic.nus.edu.sg/wp-content/uploads/2019/10/111319-curtis.jpg
END:VEVENT
END:VCALENDAR