BEGIN:VCALENDAR
VERSION:2.0
PRODID:-//YST Conservatory - ECPv6.15.17//NONSGML v1.0//EN
CALSCALE:GREGORIAN
METHOD:PUBLISH
X-WR-CALNAME:YST Conservatory
X-ORIGINAL-URL:https://www.ystmusic.nus.edu.sg
X-WR-CALDESC:Events for YST Conservatory
REFRESH-INTERVAL;VALUE=DURATION:PT1H
X-Robots-Tag:noindex
X-PUBLISHED-TTL:PT1H
BEGIN:VTIMEZONE
TZID:Asia/Singapore
BEGIN:STANDARD
TZOFFSETFROM:+0800
TZOFFSETTO:+0800
TZNAME:+08
DTSTART:20190101T000000
END:STANDARD
END:VTIMEZONE
BEGIN:VEVENT
DTSTART;TZID=Asia/Singapore:20200118T193000
DTEND;TZID=Asia/Singapore:20200118T210000
DTSTAMP:20260418T121714
CREATED:20200102T091358Z
LAST-MODIFIED:20200112T153020Z
UID:8461-1579375800-1579381200@www.ystmusic.nus.edu.sg
SUMMARY:Crash Boom Bam: New Works for Solo Percussion by YST Composition Students
DESCRIPTION:MAX RIEFER\, percussion \nPROGRAMMECHONG HENG LI Thunderstorm  \nKONG TZE SHIUAN okay…yes…sure…  \nCLIFF TAN A Kind of Blue  \nILYSIA TAN Ken Yu Hiere Mi  \nJOAN TAN Facets  \nJOEY TAN Imum  \nTOH YAN EE hand dance \nABOUT THIS EVENTAs part of the composition department’s Expert Interpreter opportunity\, YST composition students have written solo works for percussionist Max Riefer. After working with the students last semester during the development of their works\, Riefer premieres the resulting compositions on this concert.  \nTICKETING INFORMATION • Free admission. • All event information is correct at time of print. • Out of respect for other concertgoers\, no children under 6 years of age will be allowed admission. 
URL:https://www.ystmusic.nus.edu.sg/event/crash-boom-bam/
LOCATION:Conservatory Orchestra Hall\, Yong Siew Toh Conservatory of Music\, 3 Conservatory Drive\, Singapore\, 117376\, Singapore
ATTACH;FMTTYPE=image/jpeg:https://www.ystmusic.nus.edu.sg/wp-content/uploads/2020/01/max-riefer.jpg
END:VEVENT
END:VCALENDAR