BEGIN:VCALENDAR
VERSION:2.0
PRODID:-//YST Conservatory - ECPv6.15.17//NONSGML v1.0//EN
CALSCALE:GREGORIAN
METHOD:PUBLISH
X-WR-CALNAME:YST Conservatory
X-ORIGINAL-URL:https://www.ystmusic.nus.edu.sg
X-WR-CALDESC:Events for YST Conservatory
REFRESH-INTERVAL;VALUE=DURATION:PT1H
X-Robots-Tag:noindex
X-PUBLISHED-TTL:PT1H
BEGIN:VTIMEZONE
TZID:Asia/Singapore
BEGIN:STANDARD
TZOFFSETFROM:+0800
TZOFFSETTO:+0800
TZNAME:+08
DTSTART:20180101T000000
END:STANDARD
END:VTIMEZONE
BEGIN:VEVENT
DTSTART;TZID=Asia/Singapore:20190329T180000
DTEND;TZID=Asia/Singapore:20190329T180000
DTSTAMP:20260420T034839
CREATED:20191121T094249Z
LAST-MODIFIED:20191121T094249Z
UID:7502-1553882400-1553882400@www.ystmusic.nus.edu.sg
SUMMARY:Concerto Competition: Semi-Finals Day 1
DESCRIPTION:PROGRAMME \nGUSTAV MAHLERKindertotenliederI. Nun will die sonn’ so hell aufgeh’nII. Nun seh’ ich wohl\, warum so dunkle Flammen III. Wenn dein MutterleinIV. Oft denk’ich\, sie sind nur ausgegangenV. In diesem wetter \nCindy Honanta mezzo sopranoChoi Hye Seon piano \nJULIUS KLENGELConcerto in E minor\, Op. 45 for two cellos and orchestraI. Allegro moderatoII. AndanteIII. Allegro moderatoKim Dohyung & Jeong Woosuk cellosLiu Jia piano \n– Intermission (7 minutes) – \nMENDELSSOHNPiano Concerto No. 1 in G minor\, Op. 25I. Molto allegro con fuocoII. AndanteIII. PrestoElizabeth Low pianoMervyn Lee orchestral reduction \nLUDWIG SPOHRClarinet Concerto No. 1 in C minor\, Op. 26I. Adagio – AllegroII. AdagioIII. Rondo: vivaceChiang Yung-Yuan clarinetBeatrice Lin piano \n– Intermission (7 minutes) – \nTCHAIKOVSKYViolin Concerto in D major\, Op. 35I. Allegro moderatoII. Canzonetta: AndanteIII. Finale: Allegro vivacissimoZhang Yuchen violinGe Xiaozhe piano \nABOUT THE EVENTAfter a series of preliminary rounds\, where YST second and third-year students competed within their instrumental family groupings\, the Conservatory Concerto Competition Semi-Finals brings together the first and second-placed musicians from each area\, to compete for the opportunity to play their chosen concerto with the Conservatory Orchestra in August. \nEach evening features five semi-finalists performing a complete work of their choice\, accompanied by the piano. The event culminates with the announcing of three finalists by an international panel of judges. \n  \nAdjudicators: \nAnothai NitibhonDavid TakenoLuke Dollman \nSupported by: \n \n  \nTICKETING INFORMATION• Free admission.• All event information is correct at time of print.• Out of respect for other concertgoers\, no children under 6 years of age will be allowed admission.
URL:https://www.ystmusic.nus.edu.sg/event/concerto-competition-semi-finals-day-1/
LOCATION:Conservatory Concert Hall\, Yong Siew Toh Conservatory of Music\, 3 Conservatory Drive\, 117376\, Singapore
ATTACH;FMTTYPE=image/jpeg:https://www.ystmusic.nus.edu.sg/wp-content/uploads/2019/11/033019-concerto-competition-semi-finals-day-2.jpg
END:VEVENT
END:VCALENDAR