BEGIN:VCALENDAR
VERSION:2.0
PRODID:-//YST Conservatory - ECPv6.15.17//NONSGML v1.0//EN
CALSCALE:GREGORIAN
METHOD:PUBLISH
X-WR-CALNAME:YST Conservatory
X-ORIGINAL-URL:https://www.ystmusic.nus.edu.sg
X-WR-CALDESC:Events for YST Conservatory
REFRESH-INTERVAL;VALUE=DURATION:PT1H
X-Robots-Tag:noindex
X-PUBLISHED-TTL:PT1H
BEGIN:VTIMEZONE
TZID:Asia/Singapore
BEGIN:STANDARD
TZOFFSETFROM:+0800
TZOFFSETTO:+0800
TZNAME:+08
DTSTART:20240101T000000
END:STANDARD
END:VTIMEZONE
BEGIN:VEVENT
DTSTART;TZID=Asia/Singapore:20250314T180000
DTEND;TZID=Asia/Singapore:20250314T210000
DTSTAMP:20260418T080045
CREATED:20250110T042928Z
LAST-MODIFIED:20250314T100229Z
UID:37284-1741975200-1741986000@www.ystmusic.nus.edu.sg
SUMMARY:Ones to Watch: Concerto Competition Finals (Day 1)
DESCRIPTION:Every year\, the Conservatory Concerto Competition brings together YST Year 2 and 3 students to compete for the opportunity to play their chosen concerto with the YST Orchestral Institute\, in a celebration of performance excellence and artistry. \nFollowing a series of preliminary rounds within instrumental family groupings\, the first and second- placed musicians from each area take the stage over two evenings. They will perform a complete work of their choice with piano accompaniment\, assessed by an international panel of adjudicators\, including: \nSarah Butler\, Former Principal Trumpet\, Queensland Symphony\, AustraliaZhang Jia\, Central Conservatory of Music\, ChinaDaniel de Borah\, Queensland Conservatorium Griffith University\, Australia \nJoin us in witnessing this showcase of student talent\, and find out who our next Concerto Prizewinners will be! \nSupported by the Shaw Foundation Ones to Watch series. \n \nPROGRAMME \nFRANZ LISZT Piano Concerto No.1 in Eb majorI. Allegro maestosoII. Quasi AdagioIII. Allegro vivace. Allegro animatoIV. Allegro marziale animato \nLIN SHIH-EN ((BMus2)\, pianoLIM ZHUO DARRELL (BMus3)\, piano accompanist \nLAUNY GRØNDAHL Concerto for TromboneI. Moderato assai ma molto maestosoII. Quasi una Leggenda: Andante graveIII. Finale: Maestoso – Rondo\nONG AUN GUAN (BMus3)\, tromboneGABRIEL HOE\, piano accompanist\n \n– 10 minutes intermission –\n \nJOHANNES BRAHMSPiano Concerto No.1 in D minor\, Op.15I. Maestoso II. AdagioIII. Rondo (Allegro non Troppo)\n \nCHAI ZI QING (BMus3)\, pianoRUOFEI XIAN (Young Artist)\, piano accompanist\n \n– 10 minutes intermission –\n \nSAMUEL BARBERKnoxville: Summer of 1915\, Op. 24\n \nVAL CHONG JIA XUAN (BMus 3)\, sopranoBEATRICE LIN\, piano accompanist\n \nSERGEI PROKOFIEVViolin Concerto in D Major Op.19I. Andantino – andante assaiII. Scherzo – VivacissimoIII. Moderato\n \nCHIEN HSIN (BMus2)\, violinGE XIAOZHE\, piano accompanist\n  \nTICKETING INFORMATION \nAdmission is free and on a first-come\, first-served basis. Out of respect for the participants and other spectators\, no children under 6 years of age will be allowed admission. \nBe the first to hear about our upcoming events! Join our mailing list here.
URL:https://www.ystmusic.nus.edu.sg/event/concerto-competition-finals-day-1-2025/
LOCATION:YST Concert Hall\, Yong Siew Toh Conservatory of Music\, 3 Conservatory Drive\, Singapore\, 117376\, Singapore
ATTACH;FMTTYPE=image/jpeg:https://www.ystmusic.nus.edu.sg/wp-content/uploads/2024/12/Web_Concerto-Comp-Generic-scaled.jpg
END:VEVENT
END:VCALENDAR