BEGIN:VCALENDAR
VERSION:2.0
PRODID:-//YST Conservatory - ECPv6.15.17//NONSGML v1.0//EN
CALSCALE:GREGORIAN
METHOD:PUBLISH
X-WR-CALNAME:YST Conservatory
X-ORIGINAL-URL:https://www.ystmusic.nus.edu.sg
X-WR-CALDESC:Events for YST Conservatory
REFRESH-INTERVAL;VALUE=DURATION:PT1H
X-Robots-Tag:noindex
X-PUBLISHED-TTL:PT1H
BEGIN:VTIMEZONE
TZID:Asia/Singapore
BEGIN:STANDARD
TZOFFSETFROM:+0800
TZOFFSETTO:+0800
TZNAME:+08
DTSTART:20180101T000000
END:STANDARD
END:VTIMEZONE
BEGIN:VEVENT
DTSTART;TZID=Asia/Singapore:20190310T150000
DTEND;TZID=Asia/Singapore:20190310T150000
DTSTAMP:20260426T080405
CREATED:20191120T084952Z
LAST-MODIFIED:20191120T084952Z
UID:7475-1552230000-1552230000@www.ystmusic.nus.edu.sg
SUMMARY:Children's Concert: Rhapsody In YST
DESCRIPTION:PROGRAMME \n  \nCREATIVE PROJECT \nPerformed by YST DOUBLE TIME PROJECT ENSEMBLE \n  \nDEBUSSYChildren’s Corner\, L. 119VI. Golliwogg’s Cakewalk \nPerformed by WIND QUINTET \n  \nENRIQUE CRESPOSuite Americana for Brass Quintet No. 1 \n  \narr. LUTHER HENDERSONAmazing Grace \nPerformed by BRASS QUINTET \n  \nKOJI KONDO/ NOBUO UEMATSU arr. LEE YU RUThemes from Super MarioThemes from Legend of ZeldaThemes from Final Fantasy \nPerformed by PERCUSSION ENSEMBLE \n  \nMOZARTPapageno e Papagena from Die Zauberflöte (The Magic Flute) \n  \nTCHAIKOVSKYWaltz of the Flowers from the Nutcracker Suite \nPerformed by FULL ORCHESTRA \n  \nABOUT THE EVENTPlaying in an orchestra is serious business – but it’s also a fun and exciting journey with beautiful music and fellow music-making friends! \nJoin us for the YST Children’s Concert\, where you can experience and get to know the orchestral sound world! \nThe Children’s Concert will also feature a performance by young students from Double Time\, a programme where children aged 9-11 learned a second instrument over four months!. Hear them perform and do give them a big hand! \nRegister HerePresent your ticket/confirmation at Bar Bar Black Sheep (Kent Ridge) to enjoy 20% off food\, and beer/wine/cocktails & more at $4.90 nett each! *Valid only on date of ticket \n  \nTICKETING INFORMATION \n• Free admission via Eventbrite registration.• All event information is correct at time of print.• Out of respect for other concertgoers\, no children under 6 years of age will be allowed admission.
URL:https://www.ystmusic.nus.edu.sg/event/childrens-concert-rhapsody-in-yst/
LOCATION:Conservatory Concert Hall\, Yong Siew Toh Conservatory of Music\, 3 Conservatory Drive\, 117376\, Singapore
ATTACH;FMTTYPE=image/jpeg:https://www.ystmusic.nus.edu.sg/wp-content/uploads/2019/11/031019-childrens-concert-rhapsody.jpg
END:VEVENT
END:VCALENDAR