BEGIN:VCALENDAR
VERSION:2.0
PRODID:-//YST Conservatory - ECPv6.15.17//NONSGML v1.0//EN
CALSCALE:GREGORIAN
METHOD:PUBLISH
X-WR-CALNAME:YST Conservatory
X-ORIGINAL-URL:https://www.ystmusic.nus.edu.sg
X-WR-CALDESC:Events for YST Conservatory
REFRESH-INTERVAL;VALUE=DURATION:PT1H
X-Robots-Tag:noindex
X-PUBLISHED-TTL:PT1H
BEGIN:VTIMEZONE
TZID:Asia/Singapore
BEGIN:STANDARD
TZOFFSETFROM:+0800
TZOFFSETTO:+0800
TZNAME:+08
DTSTART:20240101T000000
END:STANDARD
END:VTIMEZONE
BEGIN:VEVENT
DTSTART;TZID=Asia/Singapore:20250317T180000
DTEND;TZID=Asia/Singapore:20250317T203000
DTSTAMP:20260419T210713
CREATED:20250314T060906Z
LAST-MODIFIED:20250317T032445Z
UID:38151-1742234400-1742243400@www.ystmusic.nus.edu.sg
SUMMARY:Chamber Week – Brawl in the Hall
DESCRIPTION:Get ready for the most intense 50 minutes of the semester! Renowned musicians and YST faculty—Yang Shu Xiang\, Brenda Koh\, Martin Peh\, and Leslie Tan—take on Beethoven’s mind-boggling Grosse Fuge\, a work so daring it left audiences stunned.Joining them\, fearless freshmen musicians step into the ring with a fiery tribute to Astor Piazzolla: Osvaldo Golijov’s Last Round\, a piece that pulses with the energy of a final tango duel. The battle reaches its peak as The Cave Quartet and faculty musicians unleash the raw power of Shostakovich’s electrifying Octet.PROGRAMME \nYANG SHUXIANG\, violinBRENDA KOH\, violinMARTIN PEH\, violaLESLIE TAN\, celloLUDWIG VAN BEETHOVENGrosse Fuge\, Op.133 \nOSVALDO GOLIJOVLast Round for String Nonet \nwithLI HAO\, violinAUREITSEVICH NATALLIA\, violinLIU XUANYU\, violaSUN XIAORAN\, celloLOEWE LIM LI TONG\, double bass \nDMITRI SHOSTAKOVICHTwo Pieces for String Octet\, Op. 112 \nwith CAVE QUARTET:VIKTORIA IVAYLOVA MARINOVA\, violinSYU CHENG-YI\, violinCAITLIN CHIN KAI LI\, violaREN ZHIVI\, cello \n  \nABOUT CHAMBER MUSIC WEEK \nChamber Music Week 2025 brings together top local and international artists and ensembles for a week-long celebration of chamber music. \nOver the course of the week\, look forward to chamber masterclasses and performances by acclaimed violist Su Zhen\, Spectra Ensemble\, tenor Mark Tucker\, violinist Zhang Jia\, pianist Daniel de Borah\, YST contemporary music ensemble OpusNovus\, YST Ensemble-in-Residence Red Dot Baroque\, and the YST Voice and Composition Departments. The festival will also feature YST’s annual contemporary music festival Sounding Now and Song Festival: The Voices of England & France — expanding the chamber music experience beyond classical and instrumental traditions. \nDon’t miss this invaluable opportunity to learn from acclaimed chamber musicians\, while fully immersing in the world of chamber music! \n  \nTICKETING INFORMATION \nAdmission is free with registration via yst.eventbrite.com. \nOut of respect for the participants and other spectators\, no children under 6 years of age will be allowed admission. \nBe the first to hear about our upcoming events! Join our mailing list here.
URL:https://www.ystmusic.nus.edu.sg/event/chamber-week-brawl-in-the-hall/
LOCATION:Conservatory Orchestra Hall\, Yong Siew Toh Conservatory of Music\, 3 Conservatory Drive\, Singapore\, 117376\, Singapore
END:VEVENT
END:VCALENDAR