BEGIN:VCALENDAR
VERSION:2.0
PRODID:-//YST Conservatory - ECPv6.15.17//NONSGML v1.0//EN
CALSCALE:GREGORIAN
METHOD:PUBLISH
X-WR-CALNAME:YST Conservatory
X-ORIGINAL-URL:https://www.ystmusic.nus.edu.sg
X-WR-CALDESC:Events for YST Conservatory
REFRESH-INTERVAL;VALUE=DURATION:PT1H
X-Robots-Tag:noindex
X-PUBLISHED-TTL:PT1H
BEGIN:VTIMEZONE
TZID:Asia/Singapore
BEGIN:STANDARD
TZOFFSETFROM:+0800
TZOFFSETTO:+0800
TZNAME:+08
DTSTART:20240101T000000
END:STANDARD
END:VTIMEZONE
BEGIN:VEVENT
DTSTART;TZID=Asia/Singapore:20250316T150000
DTEND;TZID=Asia/Singapore:20250316T170000
DTSTAMP:20260416T013952
CREATED:20250110T043033Z
LAST-MODIFIED:20250315T092810Z
UID:37288-1742137200-1742144400@www.ystmusic.nus.edu.sg
SUMMARY:Chamber Music Week: Opening Gala - The Gabrieli Project
DESCRIPTION:The Chamber Music Week Opening Gala – The Gabrieli Project\, directed by Artistic Director Alan Choo\, features YST students alongside members of YST Ensemble-in-Residence Red Dot Baroque in the grand polychoral music from 17th-century San Marco Cathedral in Venice. Composers such as Giovanni Gabrieli\, Francesco Cavalli and Biagio Marini celebrated the unique architecture of the Cathedral and its many balconies by writing music for multiple instrumental choirs\, each to be performed from different balconies and locations. \n \nIn the context of 21st Century YST Conservatory\, the similarly unique structure of the YST building will be utilized to bring out the call-and-response and echo effects of the music. Audiences travel together with the musicians to experience the music in multiple stations in the building\, culminating in the epic Canzon for 22 parts in 5 instrumental choirs\, by Giovanni Gabrieli in the concert hall. An exciting immersive experience not to be missed! \nThe Chamber Music Week Opening Gala is supported by the Shaw Foundation Ones to Watch series.\n\nPROGRAMME \nCLAUDIO MONTERVERDI – Toccata to OrfeoChou Hsin-Yu (BMus3)\, Wen Chia Chun (BMus 1)\, trumpetTseng Hua-Chih (BMus2)\, hornChen Shijin (BMus2)\, Zhang Zhuoli (BMus 1)\, tromboneLucas Kwai (BMus1)\, bass tromboneChen Yi-Chung (BMus4)\, tabor drum \nGIOVANNI GABRIELI – Canzon in echo à 12Choir 1Chou Hsin-Yu (BMus3)\, trumpetWen Chia Chun (BMus1)\, trumpetTseng Hua-Chih (BMus2)\, hornLiu Xiaowei (BMus1)\, bass trombone \nChoir 2Tan Xin Jie (BMus4)\, violinYeo See Kang (BMus1)\, violinWu Haiping (BMus1)\, violaChen Youjia (BMus2)\, cello \nChoir 3Qi Yufei (BMus1)\, fluteGao Wei Tina (BMus1)\, violinChen Shijin (BMus2)\, tromboneLim Jun Yi (BMus2)\, tuba \nSALOMONE ROSSI – Sonata in dialogo detta la VienaRed Dot BaroqueGabriel Lee & Placida Ho\, baroque violiLeslie Tan\, baroque celloChristopher Clarke\, theorbo \nLODOVICO GROSSI DA VIADANA – “La Bergamasca”Choir 1Syu Cheng-Yi (BMus2)\, violinWu Tsai-Jou (BMus4)\, violinErlene Koh (RDB)\, violaAssenbay Alan (BMus1)\, cello \nChoir 2Qi Yufei (BMus1)\, fluteYeo See Kang (BMus1)\, violinZhang Zhuoli (BMus1)\, tromboneLucas Kwai (BMus1)\, bass trombone \nGIROLAMO FANTINI – Entrata Imperiale per sonare in concertoChou Hsin-Yu (BMus3)\, Wen Chia Chun (BMus1)\, trumpetTseng Hua-Chih (BMus2)\, hornChen Shijin (BMus2)\, Zhang Zhuoli (BMus1)\, tromboneLucas Kwai (BMus1) & Liu Xiaowei (BMus1)\, bass tromboneLim Jun Yi (BMus2)\, tubaChen Yi-Chung (BMus4)\, tabor drum \nCESARE BENDINELLI – Sonata No. 333Chou Hsin-Yu (BMus3)\, Wen Chia Chun (BMus1)\, trumpetTseng Hua-Chih (BMus2)\, hornChen Shijin (BMus2)\, Zhang Zhuoli (BMus1)\, tromboneLucas Kwai (BMus1) & Liu Xiaowei (BMus1)\, bass tromboneLim Jun Yi (BMus2)\, tubaChen Yi-Chung (BMus4)\, timpani \nBIAGIO MARINI – Sonata in ecco\, for 3 violinsRed Dot BaroqueAlan Choo\, baroque violinGabriel Lee & Placida Ho\, baroque echo violinLeslie Tan\, baroque celloMervyn Lee\, organChristopher Clarke\, theorbo \nFRANCESCO CAVALLI – Sonata à 12\, from Musiche SacreChoir 1Wu Tsai-Jou (BMus4)\, violinGao Wei Tina (BMus1)\, violinErlene Koh (RDB)\, violaWu Haiping (BMus1)\, violaChen Youjia (BMus2)\, celloAssenbay Alan (BMus1)\, cello \nChoir 2Chou Hsin-Yu (BMus3)\, trumpetTseng Hua-Chih (BMus2)\, hornChen Shijin (BMus2)\, tromboneZhang Zhuoli (BMus1)\, tromboneLiu Xiaowei (BMus1)\, bass tromboneLim Jun Yi (BMus2)\, tuba \n+ Loewe Lim (BMus1)\, bass+ Mervyn Lee (RDB)\, organ+ Christopher Clarke (RDB)\, theorbo \nANTONIO BERTALI – Sonata a due chori a 8 in a minorSyu Cheng-Yi (BMus2)\, violin (solo)Tan Xin Jie (BMus4)\, violin (solo)Wu Tsai-Jou (BMus4)\, violinYeo See Kang (BMus1)\, violinErlene Koh (RDB)\, violaWu Haiping (BMus1)\, violaChen Youjia (BMus2)\, celloAssenbay Alan (BMus1)\, cello \n+ Loewe Lim (BMus 1)\, bass+ Mervyn Lee (RDB)\, organ+ Christopher Clarke (RDB)\, theorbo \nGIOVANNI GABRIELI – Sonata XX à 22\, C. 213Choir 1Chou Hsin-Yu (BMus3)\, trumpetTan Xin Jie (BMus4)\, violinErlene Koh (RDB)\, violaLiu Xuanyu (BMus1)\, violaLeslie Tan (RDB)\, celloLucas Kwai (BMus1)\, bass trombone \nChoir 2Syu Cheng-Yi (BMus2)\, violinYeo See Kang (BMus1)\, violinWu Haiping (BMus1)\, violaLoewe Lim (BMus1)\, bass \nChoir 3Tseng Hua-Chih (BMus2)\, hornZhang Zhuoli (BMus1)\, tromboneLiu Xiaowei (BMus1)\, bass tromboneLim Jun Yi (BMus2)\, tuba \nChoir 4Wen Chia Chun (BMus1)\, trumpetWu Tsai-Jou (BMus4)\, violinChen Shijin (BMus2)\, tromboneChen Youjia (BMus2)\, cello \nChoir 5Qi Yufei (BMus1)\, fluteGao Wei Tina (BMus1)\, violinPlacida Ho (RDB)\, violaAssenbay Alan (BMus1)\, cello \n+ Mervyn Lee (RDB)\, organ+ Christopher Clarke (RDB)\, theorbo \n\n  \nABOUT CHAMBER MUSIC WEEKChamber Music Week 2025 brings together top local and international artists and ensembles for a week-long celebration of chamber music\, and we’re kicking it off with our opening gala\, led by YST Ensemble-in-Residence Red Dot Baroque! \nOver the course of the week\, look forward to chamber masterclasses and performances by acclaimed violist Su Zhen\, Spectra Ensemble\, tenor Mark Tucker\, violinist Zhang Jia\, pianist Daniel de Borah\, YST contemporary music ensemble OpusNovus\, YST Ensemble-in-Residence Red Dot Baroque\, and the YST Voice and Composition Departments. The festival will also feature YST’s annual contemporary music festival Sounding Now and Song Festival: The Voices of England & France — expanding the chamber music experience beyond classical and instrumental traditions. \nDon’t miss this invaluable opportunity to learn from acclaimed chamber musicians\, while fully immersing in the world of chamber music! \n  \nTICKETING INFORMATION \nTickets at $26 via yst.eventbrite.com. \nOut of respect for the participants and other spectators\, no children under 6 years of age will be allowed admission. \nBe the first to hear about our upcoming events! Join our mailing list here.
URL:https://www.ystmusic.nus.edu.sg/event/chamber-music-week-opening-gala/
LOCATION:YST Concert Hall\, Yong Siew Toh Conservatory of Music\, 3 Conservatory Drive\, Singapore\, 117376\, Singapore
ATTACH;FMTTYPE=image/jpeg:https://www.ystmusic.nus.edu.sg/wp-content/uploads/2024/12/Web_CMW-Opening-Gala-scaled.jpg
END:VEVENT
END:VCALENDAR