BEGIN:VCALENDAR
VERSION:2.0
PRODID:-//YST Conservatory - ECPv6.15.17//NONSGML v1.0//EN
CALSCALE:GREGORIAN
METHOD:PUBLISH
X-WR-CALNAME:YST Conservatory
X-ORIGINAL-URL:https://www.ystmusic.nus.edu.sg
X-WR-CALDESC:Events for YST Conservatory
REFRESH-INTERVAL;VALUE=DURATION:PT1H
X-Robots-Tag:noindex
X-PUBLISHED-TTL:PT1H
BEGIN:VTIMEZONE
TZID:Asia/Singapore
BEGIN:STANDARD
TZOFFSETFROM:+0800
TZOFFSETTO:+0800
TZNAME:+08
DTSTART:20190101T000000
END:STANDARD
END:VTIMEZONE
BEGIN:VEVENT
DTSTART;TZID=Asia/Singapore:20200404T180000
DTEND;TZID=Asia/Singapore:20200404T180000
DTSTAMP:20260415T152217
CREATED:20200102T091459Z
LAST-MODIFIED:20200325T062122Z
UID:8538-1586023200-1586023200@www.ystmusic.nus.edu.sg
SUMMARY:[CANCELLED] Bass Line
DESCRIPTION:In view of current health and travel advisories\, this event has been cancelled. We apologise for any inconvenience caused.For more information on the status of YST events\, please visit: bit.ly/yst-updates \nPROGRAMME To be announced. \nABOUT THE EVENTThe Conservatory’s Bass studio\, led by Artist Faculty Guennadi Mouzyka\, performs original music and transcriptions for Bass solo and Bass ensemble. \nTICKETING INFORMATION • Free admission. • All event information is correct at time of print. • Out of respect for other concertgoers\, no children under 6 years of age will be allowed admission.
URL:https://www.ystmusic.nus.edu.sg/event/bass-line-040420/
LOCATION:Conservatory Orchestra Hall\, Yong Siew Toh Conservatory of Music\, 3 Conservatory Drive\, Singapore\, 117376\, Singapore
ATTACH;FMTTYPE=image/jpeg:https://www.ystmusic.nus.edu.sg/wp-content/uploads/2020/01/bassline.jpg
END:VEVENT
END:VCALENDAR