BEGIN:VCALENDAR
VERSION:2.0
PRODID:-//YST Conservatory - ECPv6.15.17//NONSGML v1.0//EN
CALSCALE:GREGORIAN
METHOD:PUBLISH
X-WR-CALNAME:YST Conservatory
X-ORIGINAL-URL:https://www.ystmusic.nus.edu.sg
X-WR-CALDESC:Events for YST Conservatory
REFRESH-INTERVAL;VALUE=DURATION:PT1H
X-Robots-Tag:noindex
X-PUBLISHED-TTL:PT1H
BEGIN:VTIMEZONE
TZID:Asia/Singapore
BEGIN:STANDARD
TZOFFSETFROM:+0800
TZOFFSETTO:+0800
TZNAME:+08
DTSTART:20230101T000000
END:STANDARD
END:VTIMEZONE
BEGIN:VEVENT
DTSTART;TZID=Asia/Singapore:20241115T193000
DTEND;TZID=Asia/Singapore:20241115T210000
DTSTAMP:20260416T153520
CREATED:20240802T043243Z
LAST-MODIFIED:20241112T094655Z
UID:35523-1731699000-1731704400@www.ystmusic.nus.edu.sg
SUMMARY:Bach Cantata Series: The "Other" Bach
DESCRIPTION:To commemorate the 13th iteration of the Bach Cantata Series at YST\, we will be presenting a concert of the somewhat lesser known of Bach’s children: P.D.Q. Bach (a.k.a. Peter Schickele).  \nThis obscure ‘genius’ left us many unforgettable musical contributions to the great Bach line\, including The Art of the Ground Round\, S 1.19/lb; Goldbrick Variations\, S. 14; and many other works.  \nOn this evening\, we will be presenting some of P.D.Q. Bach’s masterworks\, including The Stoned Guest\, a half-act opera\, S. 86 Proof; selections from The Short-Tempered Clavier; the Canine Cantata: Wachet Arf! (Sleeping Dogs\, Awake!)\, S. K9; the Cantata Blaues Gras (Bluegrass Cantata)\, S. 6 String; and many others. Join us for the fun as we celebrate this lesser known Bach talent with singing\, staged opera and\, most importantly\, the world premiere of the sensational Cobi! \n  \n  The Great Cobi \n  \nPROGRAMME \nBACH CANTATA SERIES #13: THE “OTHER” BACHEXPLORING THE MUSIC OF THE GREAT P.D.Q. BACH (1807–1742?) \nFeaturingYST Orchestral InstitutewithLien Boon Hua\, ConductorEdith Podesta\, Stage DirectorEmanorwatty Saleh\, Lighting DesignerStudents from The Opera Workshop and Priscilla Fong\, DirectorandP.D.Q. Bach\, as Himself \nP.D.Q. BACH \nSonata Innamorata for Piano\, Four Hands (S. 1+1) I. Allegro ImpetuosoII. Andante con cozytàIII. Presto obsessto \nJiang Qifan (BMus1)\, pianoXie Lingfei (BMus2)\, piano \nLip My Reeds\, Prelude and Fugue for Four Bassoons (S. 32’) \nKong Xian Zhang (BMus2)\, bassoonWen Xi Yu (BMus2)\, bassoonChen Si Hong (BMus1)\, bassoonLiu Jia Yu (BMus2)\, bassoon \nThe Only Piece Ever Written for Violin and Tuba\, for Violin and Tuba (S. 9\, 10\, big fat hen)I. Andante alighieriII. Shake allegroIII. Lento nice ‘n’ easyoIV. Allegro\, but not too mucho \nChen Shu-Yu (BMus2)\, violinYang Junxiang (BMus3)\, tuba \nSonata for Viola Four Hands and Harpsichord (s. .440) \nHuang Yi (BMus4)\, violaLi Wei-Fan (BMus4)\, violaBeatrice Lin\, harpsichord \nSelections from the Short-Tempered Clavier (S 3.14156\, easy as)– Prelude and Fugue in C Major– Prelude and Fugue in C# minor– Prelude and Fugue in E Major \nKarst De Jong\, piano \nFour Folksong Upsettings\, for Mezzanine-soprano\, Devious Instruments\, and Piano (S. 4)1. Little Bunny Hop Hop Hop2. Oft of an E’en Ere Night is Nigh3. He Came From Over Yonder Ridge4. The Farmer on the Dole \nSamiksha Argal (BMus3)\, mezzanine-soprano\, schlagenfrappe\, ocarinaMaureen Edenia (BMus4)\, pianoP.D.Q. Bach\, tuba mirum\, pastaphone \n– 15 MINUTES INTERMISSION – \nCanine Cantata: Wachet\, Arf! (Sleeping Dogs Awake!\, (S. K9) \nCobi the AmazingAlbertius Tiudentius\, Assistant \n  \nCantata Blaues Gras (Bluegrass Cantata)\, (S. 6 String) \nPark Minjun (BMus3)\, tenorJason Suryaatmaja (BMus4)\, baritoneBluegrass Band: Koh Kai JieKarst De JongTony Makarome \n  \nThe Stoned Guest\, a half-act opera\, (S. 86 proof) \nDonna Ribalda\, Stephanie Joshvin\, mezzanine-sopranoCarmen Ghia\, Kira Lim\, off-coloratura sopranoDon Octave\, Kim Oh-Yeon\, bargain-counter tenorDog\, Cobi the GreatIl Commendatoreador\, Jason Suryaatmaja\, basso blotto \n  \nTICKETING INFORMATION  \nTickets at $5-10 via yst.eventbrite.com.  \nPlease note that this concert will feature a live dog onstage. Should you have any allergies or concerns\, we recommend booking seats further back in the hall. \nOut of respect for the participants and other spectators\, no children under 6 years of age will be allowed admission.  \nSubscribe to YST’s mailing list here.
URL:https://www.ystmusic.nus.edu.sg/event/bach-cantata-series-the-other-bach/
LOCATION:YST Concert Hall\, Yong Siew Toh Conservatory of Music\, 3 Conservatory Drive\, Singapore\, 117376\, Singapore
ATTACH;FMTTYPE=image/webp:https://www.ystmusic.nus.edu.sg/wp-content/uploads/2024/07/Bach-Cantata.webp
END:VEVENT
END:VCALENDAR