BEGIN:VCALENDAR
VERSION:2.0
PRODID:-//YST Conservatory - ECPv6.15.17//NONSGML v1.0//EN
CALSCALE:GREGORIAN
METHOD:PUBLISH
X-WR-CALNAME:YST Conservatory
X-ORIGINAL-URL:https://www.ystmusic.nus.edu.sg
X-WR-CALDESC:Events for YST Conservatory
REFRESH-INTERVAL;VALUE=DURATION:PT1H
X-Robots-Tag:noindex
X-PUBLISHED-TTL:PT1H
BEGIN:VTIMEZONE
TZID:Asia/Singapore
BEGIN:STANDARD
TZOFFSETFROM:+0800
TZOFFSETTO:+0800
TZNAME:+08
DTSTART:20190101T000000
END:STANDARD
END:VTIMEZONE
BEGIN:VEVENT
DTSTART;TZID=Asia/Singapore:20200313T123000
DTEND;TZID=Asia/Singapore:20200313T123000
DTSTAMP:20260419T094821
CREATED:20200102T091436Z
LAST-MODIFIED:20200310T071240Z
UID:8508-1584102600-1584102600@www.ystmusic.nus.edu.sg
SUMMARY:ACM Lunchtime Series: String Chamber
DESCRIPTION:PROGRAMME \nHAYDN \nString Quartet in G major Op.76 No.1 \nI. Allegro con spirito \nMA MINGYUAN (B.Mus1)\, violin \nSIM JING JIE JORIM JIREH (B.Mus1)\, violin \nHSU MIN JOELLE (B.Mus1)\, viola \nLIU JIAQI (B.Mus1)\, cello \n  \nHAYDN \nString Quartet in D minor Op.76 No.2 ‘Fifths’ \nI. Allegro \nCHIEN CHIN (B.Mus1)\, violin \nSHERZOD ABDIEV (B.Mus1)\, violin \nCHEN CHI-JUI (B.Mus1)\, viola \nJOO HWAYOUNG (B.Mus1)\, cello \n  \nHAYDN \nString Quartet in C major Op.76 No.3 ‘Emperor’ \nI. Allegro \nZHONG YIFAN (B.Mus1)\, violin \nLUO JUNTAO (B.Mus1)\, violin \nZENG ZIYAN (B.Mus1)\, viola \nTAN SHI LING DENISE (B.Mus1)\, cello \n  \nHAYDN \nString Quartet in D major Op.76 No.5 \nIII. Menuetto. Allegro \nIV. Finale. Presto \nGEORGII MOROZ (B.Mus1)\, violin \nTHANTAT SRIARANYAKUL (B.Mus1)\, violin \nCHEN CHI-JUI (B.Mus1)\, viola \nBEKHZOD OBLAYOROV (B.Mus1)\, cello \n  \nBEETHOVEN \nString Quartet in C minor Op.18 No.4 \nI. Allegro ma non tanto \nHE SHUCONG (Artist Diploma)\, violin \nJULIA HEUSLER (B.Mus4)\, violin \nLAN SHENG-CHIEH (B.Mus3)\, viola \nLIU JIAQI (B.Mus1)\, cello \n  \nABOUT THIS EVENTStrings work together exploring stunning works from the classical repertoire. \nIn partnership with: \n \nTICKETING INFORMATION • Free admission. • All event information is correct at time of print.
URL:https://www.ystmusic.nus.edu.sg/event/acm-string-chamber-130320/
ATTACH;FMTTYPE=image/jpeg:https://www.ystmusic.nus.edu.sg/wp-content/uploads/2020/01/acm-string-chamber.jpg
END:VEVENT
END:VCALENDAR