BEGIN:VCALENDAR
VERSION:2.0
PRODID:-//YST Conservatory - ECPv6.15.17//NONSGML v1.0//EN
CALSCALE:GREGORIAN
METHOD:PUBLISH
X-WR-CALNAME:YST Conservatory
X-ORIGINAL-URL:https://www.ystmusic.nus.edu.sg
X-WR-CALDESC:Events for YST Conservatory
REFRESH-INTERVAL;VALUE=DURATION:PT1H
X-Robots-Tag:noindex
X-PUBLISHED-TTL:PT1H
BEGIN:VTIMEZONE
TZID:Asia/Singapore
BEGIN:STANDARD
TZOFFSETFROM:+0800
TZOFFSETTO:+0800
TZNAME:+08
DTSTART:20180101T000000
END:STANDARD
END:VTIMEZONE
BEGIN:VEVENT
DTSTART;TZID=Asia/Singapore:20191115T123000
DTEND;TZID=Asia/Singapore:20191115T123000
DTSTAMP:20260423T032050
CREATED:20191016T024122Z
LAST-MODIFIED:20191016T024122Z
UID:5808-1573821000-1573821000@www.ystmusic.nus.edu.sg
SUMMARY:ACM Lunchtime Concerts: Jazz
DESCRIPTION:PROGRAMME TO BE ANNOUNCED. \nABOUT THIS EVENT\nYST faculty member and stalwart of the Singapore Jazz scene Dr Tony Makarome leads students in some groovin’ lunchtime jazz! \nThe Conservatory is grateful for Mr Tan Kah Tee for his gift of a Bösendorfer Johann Strauss Model. \nIn collaboration with: \n\n\n\n\n\n\n\n\n\n\n\n\n\n\n\n\n \n\n\n\n\n\nTICKETING INFORMATION\n• Free admission.• All event information is correct at time of print.
URL:https://www.ystmusic.nus.edu.sg/event/acm-lunchtime-concerts-jazz/
LOCATION:Asian Civilisations Museum\, 1 Empress Place\, 179555\, Singapore
ATTACH;FMTTYPE=image/jpeg:https://www.ystmusic.nus.edu.sg/wp-content/uploads/2019/10/111519-acm-jazz.jpg
END:VEVENT
END:VCALENDAR