BEGIN:VCALENDAR
VERSION:2.0
PRODID:-//YST Conservatory - ECPv6.15.17//NONSGML v1.0//EN
CALSCALE:GREGORIAN
METHOD:PUBLISH
X-WR-CALNAME:YST Conservatory
X-ORIGINAL-URL:https://www.ystmusic.nus.edu.sg
X-WR-CALDESC:Events for YST Conservatory
REFRESH-INTERVAL;VALUE=DURATION:PT1H
X-Robots-Tag:noindex
X-PUBLISHED-TTL:PT1H
BEGIN:VTIMEZONE
TZID:Asia/Singapore
BEGIN:STANDARD
TZOFFSETFROM:+0800
TZOFFSETTO:+0800
TZNAME:+08
DTSTART:20190101T000000
END:STANDARD
END:VTIMEZONE
BEGIN:VEVENT
DTSTART;TZID=Asia/Singapore:20200417T123000
DTEND;TZID=Asia/Singapore:20200417T123000
DTSTAMP:20260422T184839
CREATED:20200102T091501Z
LAST-MODIFIED:20200319T061648Z
UID:8549-1587126600-1587126600@www.ystmusic.nus.edu.sg
SUMMARY:[CANCELLED] ACM Lunchtime Concert - Jazz
DESCRIPTION:In view of current health and travel advisories\, this event has been cancelled. We apologise for any inconvenience caused. \nFor more information on the status of YST events\, please visit: bit.ly/yst-updates \nPROGRAMME To be announced. \nABOUT THE EVENTYST faculty member and stalwart of the Singapore Jazz scene Dr Tony Makarome leads students in some groovin’ lunchtime jazz!  \nThe Conservatory is grateful for Mr Tan Kah Tee for his gift of a Bösendorfer Johann Strauss Model. \nIn partnership with: \n \nTICKETING INFORMATION • Free admission.• All event information is correct at time of print. • Out of respect for other concertgoers\, no children under 6 years of age will be allowed admission.
URL:https://www.ystmusic.nus.edu.sg/event/acm-jazz-170420/
ATTACH;FMTTYPE=image/jpeg:https://www.ystmusic.nus.edu.sg/wp-content/uploads/2020/01/acm-jazz.jpg
END:VEVENT
END:VCALENDAR