BEGIN:VCALENDAR
VERSION:2.0
PRODID:-//YST Conservatory - ECPv6.15.17//NONSGML v1.0//EN
CALSCALE:GREGORIAN
METHOD:PUBLISH
X-WR-CALNAME:YST Conservatory
X-ORIGINAL-URL:https://www.ystmusic.nus.edu.sg
X-WR-CALDESC:Events for YST Conservatory
REFRESH-INTERVAL;VALUE=DURATION:PT1H
X-Robots-Tag:noindex
X-PUBLISHED-TTL:PT1H
BEGIN:VTIMEZONE
TZID:Asia/Singapore
BEGIN:STANDARD
TZOFFSETFROM:+0800
TZOFFSETTO:+0800
TZNAME:+08
DTSTART:20220101T000000
END:STANDARD
END:VTIMEZONE
BEGIN:VEVENT
DTSTART;TZID=Asia/Singapore:20230909T193000
DTEND;TZID=Asia/Singapore:20230909T213000
DTSTAMP:20260424T120017
CREATED:20230714T093209Z
LAST-MODIFIED:20230909T104253Z
UID:29399-1694287800-1694295000@www.ystmusic.nus.edu.sg
SUMMARY:Concerto Prizewinner Showcase: Walton and Brahms
DESCRIPTION:Programme Notes \nYST Orchestral InstitutewithJASON LAI\, conductorZHU ZEYU (B.Mus3)\, cello \nWILLIAM WALTONCello ConcertoI. ModeratoII. Allegro appassionatoIII. Tema ed improvvisazioni \n– Intermission 15 mins – \nJOHANNES BRAHMSSymphony No. 3 in F major\, Op. 90I. Allegro con brioII. AndanteIII. Poco allegrettoIV. Allegro – un poco sostenuto \nABOUT THIS EVENT \nAs part of the Orchestral Institute’s Concerto Prizewinner series\, we showcase three winners from YST’s 2023 Concerto Competition\, who after competing in a series of preliminary and final rounds within their instrumental family groupings\, were awarded an opportunity to perform with an orchestra within Singapore. Tonight we feature Walton’s Cello Concerto\, and Brahms’ fantastic Symphony No. 3. Come hear the Orchestral Institute as we collaborate with YST student soloist Zhu Zeyu. \nTICKETING INFORMATION \nTickets $10 via Eventbrite. \nPlease note that by clicking on the link\, you will be directly forwarded to a third-party independent site\, which is not developed nor maintained by the National University of Singapore (NUS). The website could be subject to data protection and privacy practices and you are encouraged to examine them before proceeding to share your personal data. NUS will collect\, use and/or disclose the personal data submitted through this third party independent site for the purpose of registration and/or management of the event. \nOut of respect for other concertgoers\, no children under 6 years of age will be allowed admission. \n* All event information is correct at time of print. \nSubscribe to YST’s mailing list.
URL:https://www.ystmusic.nus.edu.sg/event/090923-concerto-prizewinner-showcase-walton-brahms/
LOCATION:Conservatory Concert Hall\, Yong Siew Toh Conservatory of Music\, 3 Conservatory Drive\, 117376\, Singapore
ATTACH;FMTTYPE=image/png:https://www.ystmusic.nus.edu.sg/wp-content/uploads/2023/07/Zeyu.png
END:VEVENT
END:VCALENDAR